BEGIN:VCALENDAR
VERSION:2.0
PRODID:-//Ilustre Municipalidad de Arauco - ECPv6.14.2//NONSGML v1.0//EN
CALSCALE:GREGORIAN
METHOD:PUBLISH
X-WR-CALNAME:Ilustre Municipalidad de Arauco
X-ORIGINAL-URL:https://muniarauco.cl
X-WR-CALDESC:Eventos para Ilustre Municipalidad de Arauco
REFRESH-INTERVAL;VALUE=DURATION:PT1H
X-Robots-Tag:noindex
X-PUBLISHED-TTL:PT1H
BEGIN:VTIMEZONE
TZID:America/Halifax
BEGIN:DAYLIGHT
TZOFFSETFROM:-0400
TZOFFSETTO:-0300
TZNAME:ADT
DTSTART:20250309T060000
END:DAYLIGHT
BEGIN:STANDARD
TZOFFSETFROM:-0300
TZOFFSETTO:-0400
TZNAME:AST
DTSTART:20251102T050000
END:STANDARD
END:VTIMEZONE
BEGIN:VEVENT
DTSTART;TZID=America/Halifax:20250601T100000
DTEND;TZID=America/Halifax:20250601T163000
DTSTAMP:20260419T160452
CREATED:20250515T145328Z
LAST-MODIFIED:20250515T150641Z
UID:48407-1748772000-1748795400@muniarauco.cl
SUMMARY:ELECCIÓN JUNTA DE VECINOS EL PARRÓN
DESCRIPTION:Artículo 21 bis de la ley 19.418. «La comisión electoral deberá comunicar al secretario municipal la realización de la elección del directorio con al menos quince días hábiles de anticipación a la fecha fijada para ella. En caso de omitir esta comunicación\, la elección no tendrá validez. Esta información deberá ser publicada por el secretario municipal en la página web institucional de la municipalidad al día siguiente\, hábil de la comunicación y hasta la fecha de la elección…
URL:https://muniarauco.cl/evento/eleccion-junta-de-vecinos-el-parron/
LOCATION:Sede Comunitaria El Parrón\, S/N
END:VEVENT
BEGIN:VEVENT
DTSTART;TZID=America/Halifax:20250601T140000
DTEND;TZID=America/Halifax:20250601T170000
DTSTAMP:20260419T160452
CREATED:20250515T145342Z
LAST-MODIFIED:20250515T150035Z
UID:48412-1748786400-1748797200@muniarauco.cl
SUMMARY:ELECCIÓN JUNTA DE VECINOS EL PIURE
DESCRIPTION:Artículo 21 bis de la ley 19.418. «La comisión electoral deberá comunicar al secretario municipal la realización de la elección del directorio con al menos quince días hábiles de anticipación a la fecha fijada para ella. En caso de omitir esta comunicación\, la elección no tendrá validez. Esta información deberá ser publicada por el secretario municipal en la página web institucional de la municipalidad al día siguiente\, hábil de la comunicación y hasta la fecha de la elección…
URL:https://muniarauco.cl/evento/eleccion-junta-de-vecinos-el-piure/
LOCATION:Sede Junta de Vecinos El Piure
END:VEVENT
BEGIN:VEVENT
DTSTART;TZID=America/Halifax:20250602T130000
DTEND;TZID=America/Halifax:20250602T140000
DTSTAMP:20260419T160452
CREATED:20250515T145329Z
LAST-MODIFIED:20250515T150527Z
UID:48409-1748869200-1748872800@muniarauco.cl
SUMMARY:ELECCIÓN CLUB DE ADULTO MAYOR LOS PLACERES DE QUIAPO
DESCRIPTION:Artículo 21 bis de la ley 19.418. «La comisión electoral deberá comunicar al secretario municipal la realización de la elección del directorio con al menos quince días hábiles de anticipación a la fecha fijada para ella. En caso de omitir esta comunicación\, la elección no tendrá validez. Esta información deberá ser publicada por el secretario municipal en la página web institucional de la municipalidad al día siguiente\, hábil de la comunicación y hasta la fecha de la elección…
URL:https://muniarauco.cl/evento/eleccion-club-de-adulto-mayor-los-placeres-de-quiapo/
LOCATION:Sede Junta de Vecinos Villa Quiapo
END:VEVENT
BEGIN:VEVENT
DTSTART;TZID=America/Halifax:20250604T133000
DTEND;TZID=America/Halifax:20250604T143000
DTSTAMP:20260419T160452
CREATED:20250515T145343Z
LAST-MODIFIED:20250515T145822Z
UID:48413-1749043800-1749047400@muniarauco.cl
SUMMARY:ELECCIÓN CLUB DE ADULTO MAYOR LOS CHACAREROS DE LAS PUENTES
DESCRIPTION:Artículo 21 bis de la ley 19.418. «La comisión electoral deberá comunicar al secretario municipal la realización de la elección del directorio con al menos quince días hábiles de anticipación a la fecha fijada para ella. En caso de omitir esta comunicación\, la elección no tendrá validez. Esta información deberá ser publicada por el secretario municipal en la página web institucional de la municipalidad al día siguiente\, hábil de la comunicación y hasta la fecha de la elección…
URL:https://muniarauco.cl/evento/eleccion-club-de-adulto-mayor-los-chacareros-de-las-puentes/
LOCATION:Sede Club de Adulto Mayor Los Chacareros de Las Puentes
END:VEVENT
BEGIN:VEVENT
DTSTART;TZID=America/Halifax:20250605T180000
DTEND;TZID=America/Halifax:20250605T190000
DTSTAMP:20260419T160452
CREATED:20250520T203125Z
LAST-MODIFIED:20250520T203125Z
UID:49006-1749146400-1749150000@muniarauco.cl
SUMMARY:ELECCIÓN TALLER LABORAL MANOS DE MUJER
DESCRIPTION:Artículo 21 bis de la ley 19.418. «La comisión electoral deberá comunicar al secretario municipal la realización de la elección del directorio con al menos quince días hábiles de anticipación a la fecha fijada para ella. En caso de omitir esta comunicación\, la elección no tendrá validez. Esta información deberá ser publicada por el secretario municipal en la página web institucional de la municipalidad al día siguiente hábil de la comunicación y hasta la fecha de la elección…
URL:https://muniarauco.cl/evento/eleccion-taller-laboral-manos-de-mujer/
LOCATION:CASA PARTICULAR SRA. GLORIA MORA\, SECTOR EL PINAR
END:VEVENT
BEGIN:VEVENT
DTSTART;TZID=America/Halifax:20250605T190000
DTEND;TZID=America/Halifax:20250605T200000
DTSTAMP:20260419T160452
CREATED:20250520T204130Z
LAST-MODIFIED:20250520T204130Z
UID:49022-1749150000-1749153600@muniarauco.cl
SUMMARY:ELECCIÓN COMITÉ DE VIVIENDA 2° ETAPA CNT LOS ARRAYANES
DESCRIPTION:Artículo 21 bis de la ley 19.418. «La comisión electoral deberá comunicar al secretario municipal la realización de la elección del directorio con al menos quince días hábiles de anticipación a la fecha fijada para ella. En caso de omitir esta comunicación\, la elección no tendrá validez. Esta información deberá ser publicada por el secretario municipal en la página web institucional de la municipalidad al día siguiente hábil de la comunicación y hasta la fecha de la elección…
URL:https://muniarauco.cl/evento/eleccion-comite-de-vivienda-2-etapa-cnt-los-arrayanes/
LOCATION:SEDE JUNTA DE VECINOS VILLA LOS JARDINES\, ARAUCO
END:VEVENT
BEGIN:VEVENT
DTSTART;TZID=America/Halifax:20250606T080000
DTEND;TZID=America/Halifax:20250606T170000
DTSTAMP:20260419T160452
CREATED:20250520T203933Z
LAST-MODIFIED:20250520T203933Z
UID:49018-1749196800-1749229200@muniarauco.cl
SUMMARY:ELECCIÓN CLUB DEPORTIVO CELULOSA ARAUCO
DESCRIPTION:Artículo 21 bis de la ley 19.418. «La comisión electoral deberá comunicar al secretario municipal la realización de la elección del directorio con al menos quince días hábiles de anticipación a la fecha fijada para ella. En caso de omitir esta comunicación\, la elección no tendrá validez. Esta información deberá ser publicada por el secretario municipal en la página web institucional de la municipalidad al día siguiente hábil de la comunicación y hasta la fecha de la elección…
URL:https://muniarauco.cl/evento/eleccion-club-deportivo-celulosa-arauco/
LOCATION:SEDE CLUB DEPORTIVO CELULOSA ARAUCO\, CALLE O´HIGGINS S/N
END:VEVENT
BEGIN:VEVENT
DTSTART;TZID=America/Halifax:20250606T150000
DTEND;TZID=America/Halifax:20250606T160000
DTSTAMP:20260419T160452
CREATED:20250522T144519Z
LAST-MODIFIED:20250522T144519Z
UID:49037-1749222000-1749225600@muniarauco.cl
SUMMARY:ELECCIÓN  CLUB DE ADULTO MAYOR VIVIR MÁS FELIZ
DESCRIPTION:Artículo 21 bis de la ley 19.418. «La comisión electoral deberá comunicar al secretario municipal la realización de la elección del directorio con al menos quince días hábiles de anticipación a la fecha fijada para ella. En caso de omitir esta comunicación\, la elección no tendrá validez. Esta información deberá ser publicada por el secretario municipal en la página web institucional de la municipalidad al día siguiente hábil de la comunicación y hasta la fecha de la elección…
URL:https://muniarauco.cl/evento/eleccion-club-de-adulto-mayor-vivir-mas-feliz/
LOCATION:CASA PARTICULAR SR. OSVALDO FLORES\, CALIFORNIA N°38\, ARAUCO
END:VEVENT
BEGIN:VEVENT
DTSTART;TZID=America/Halifax:20250607T020000
DTEND;TZID=America/Halifax:20250607T160000
DTSTAMP:20260419T160452
CREATED:20250520T202954Z
LAST-MODIFIED:20250520T202954Z
UID:49002-1749261600-1749312000@muniarauco.cl
SUMMARY:ELECCIÓN  AGRUPACIÓN PRAIS ARAUCO
DESCRIPTION:Artículo 21 bis de la ley 19.418. «La comisión electoral deberá comunicar al secretario municipal la realización de la elección del directorio con al menos quince días hábiles de anticipación a la fecha fijada para ella. En caso de omitir esta comunicación\, la elección no tendrá validez. Esta información deberá ser publicada por el secretario municipal en la página web institucional de la municipalidad al día siguiente hábil de la comunicación y hasta la fecha de la elección…
URL:https://muniarauco.cl/evento/eleccion-agrupacion-prais-arauco/
LOCATION:AUDITORIO MUNICIPAL ARAUCO
END:VEVENT
BEGIN:VEVENT
DTSTART;TZID=America/Halifax:20250608T100000
DTEND;TZID=America/Halifax:20250608T150000
DTSTAMP:20260419T160452
CREATED:20250520T202759Z
LAST-MODIFIED:20250520T202759Z
UID:48998-1749376800-1749394800@muniarauco.cl
SUMMARY:ELECCIÓN  JUNTA DE VECINOS HORCONES  CORDILLERA
DESCRIPTION:Artículo 21 bis de la ley 19.418. «La comisión electoral deberá comunicar al secretario municipal la realización de la elección del directorio con al menos quince días hábiles de anticipación a la fecha fijada para ella. En caso de omitir esta comunicación\, la elección no tendrá validez. Esta información deberá ser publicada por el secretario municipal en la página web institucional de la municipalidad al día siguiente hábil de la comunicación y hasta la fecha de la elección…
URL:https://muniarauco.cl/evento/eleccion-junta-de-vecinos-horcones-cordillera/
LOCATION:SEDE JUNTA DE VECINOS HORCONES CORDILLA
END:VEVENT
BEGIN:VEVENT
DTSTART;TZID=America/Halifax:20250608T140000
DTEND;TZID=America/Halifax:20250608T160000
DTSTAMP:20260419T160452
CREATED:20250520T203818Z
LAST-MODIFIED:20250520T203818Z
UID:49014-1749391200-1749398400@muniarauco.cl
SUMMARY:ELECCIÓN AGRUPACIÓN CAMPESINA DE ARAUCO
DESCRIPTION:Artículo 21 bis de la ley 19.418. «La comisión electoral deberá comunicar al secretario municipal la realización de la elección del directorio con al menos quince días hábiles de anticipación a la fecha fijada para ella. En caso de omitir esta comunicación\, la elección no tendrá validez. Esta información deberá ser publicada por el secretario municipal en la página web institucional de la municipalidad al día siguiente hábil de la comunicación y hasta la fecha de la elección…
URL:https://muniarauco.cl/evento/eleccion-agrupacion-campesina-de-arauco/
LOCATION:SEDE JUNTA DE VECINOS LAS PUENTES
END:VEVENT
BEGIN:VEVENT
DTSTART;TZID=America/Halifax:20250608T140000
DTEND;TZID=America/Halifax:20250608T180000
DTSTAMP:20260419T160452
CREATED:20250522T145642Z
LAST-MODIFIED:20250522T145642Z
UID:49040-1749391200-1749405600@muniarauco.cl
SUMMARY:ELECCIÓN  COMITÉ DE SALUD POSTA QUIAPO
DESCRIPTION:Artículo 21 bis de la ley 19.418. «La comisión electoral deberá comunicar al secretario municipal la realización de la elección del directorio con al menos quince días hábiles de anticipación a la fecha fijada para ella. En caso de omitir esta comunicación\, la elección no tendrá validez. Esta información deberá ser publicada por el secretario municipal en la página web institucional de la municipalidad al día siguiente hábil de la comunicación y hasta la fecha de la elección…
URL:https://muniarauco.cl/evento/eleccion-comite-de-salud-posta-quiapo/
LOCATION:POSTA QUIAPO S/N
END:VEVENT
BEGIN:VEVENT
DTSTART;TZID=America/Halifax:20250609T150000
DTEND;TZID=America/Halifax:20250609T210000
DTSTAMP:20260419T160452
CREATED:20250522T201559Z
LAST-MODIFIED:20250522T201559Z
UID:49050-1749481200-1749502800@muniarauco.cl
SUMMARY:ELECCIÓN  CLUB DE DEPORTES NÁUTICOS AZUL FURIA
DESCRIPTION:Artículo 21 bis de la ley 19.418. «La comisión electoral deberá comunicar al secretario municipal la realización de la elección del directorio con al menos quince días hábiles de anticipación a la fecha fijada para ella. En caso de omitir esta comunicación\, la elección no tendrá validez. Esta información deberá ser publicada por el secretario municipal en la página web institucional de la municipalidad al día siguiente hábil de la comunicación y hasta la fecha de la elección…
URL:https://muniarauco.cl/evento/eleccion-club-de-deportes-nauticos-azul-furia/
LOCATION:CASA PARTICULAR\, VICENTE MILLÁN N.º 223\, CARAMPANGUE
END:VEVENT
BEGIN:VEVENT
DTSTART;TZID=America/Halifax:20250609T150000
DTEND;TZID=America/Halifax:20250609T210000
DTSTAMP:20260419T160452
CREATED:20250523T185011Z
LAST-MODIFIED:20250523T185011Z
UID:49061-1749481200-1749502800@muniarauco.cl
SUMMARY:ELECCIÓN  AGRUPACIÓN DE PESCADORES ARTESANALES Y RECOLECTORES DE ORILLA RENACER DE PUNTA LAVAPIE
DESCRIPTION:Artículo 21 bis de la ley 19.418. «La comisión electoral deberá comunicar al secretario municipal la realización de la elección del directorio con al menos quince días hábiles de anticipación a la fecha fijada para ella. En caso de omitir esta comunicación\, la elección no tendrá validez. Esta información deberá ser publicada por el secretario municipal en la página web institucional de la municipalidad al día siguiente hábil de la comunicación y hasta la fecha de la elección…
URL:https://muniarauco.cl/evento/eleccion-agrupacion-de-pescadores-artesanales-y-recolectores-de-orilla-renacer-de-punta-lavapie/
LOCATION:CASA PARTICULAR SRA. MARISOL VEGA\, PUERTO BRAVO S/N\, PUNTA LAVAPIE
END:VEVENT
BEGIN:VEVENT
DTSTART;TZID=America/Halifax:20250610T100000
DTEND;TZID=America/Halifax:20250610T170000
DTSTAMP:20260419T160452
CREATED:20250520T203257Z
LAST-MODIFIED:20250520T203541Z
UID:49010-1749549600-1749574800@muniarauco.cl
SUMMARY:ELECCIÓN CENTRO CULTURAL MANANTIAL ARAUCO
DESCRIPTION:Artículo 21 bis de la ley 19.418. «La comisión electoral deberá comunicar al secretario municipal la realización de la elección del directorio con al menos quince días hábiles de anticipación a la fecha fijada para ella. En caso de omitir esta comunicación\, la elección no tendrá validez. Esta información deberá ser publicada por el secretario municipal en la página web institucional de la municipalidad al día siguiente hábil de la comunicación y hasta la fecha de la elección…
URL:https://muniarauco.cl/evento/eleccion-centro-cultural-manantial-arauco/
LOCATION:Psje\, Lote 6 Punta Carampangue\, Arauco
END:VEVENT
BEGIN:VEVENT
DTSTART;TZID=America/Halifax:20250610T123000
DTEND;TZID=America/Halifax:20250610T133000
DTSTAMP:20260419T160452
CREATED:20250515T145318Z
LAST-MODIFIED:20250515T152504Z
UID:48400-1749558600-1749562200@muniarauco.cl
SUMMARY:Subsidio Construcción Obras de Riego y/o Drenaje para Indígenas de las regiones del Biobío\, Ñuble y Maule
DESCRIPTION:1.- Concurso Público: «Subsidio Construcción Obras de Riego y/o Drenaje para Indígenas de las regiones del Biobío\, Ñuble y Maule»\, año 2025.\n \nObjetivo General: Subsidiar la construcción\, mejoramiento y ampliación de proyectos para la obtención de agua y/o drenaje en terrenos de personas\, comunidades o parte de comunidades indígenas.\n\n\nPodrán Postular: \n\na)  Postulación como persona natural\, será la cantidad de hasta $ 9.000.000.-\n\nb) Postulación como parte de comunidad indígena: será la cantidad máxima de $ 78.000.000.- con un máximo de $ 6.500.000.- por socio postulante.\nc) Postulación como comunidad indígena\, será la cantidad de hasta $ 100.000.000.-\nd) Los proyectos de ampliación o mejoramiento sólo podrán postular a un máximo de $ 5.500.000.- como tope máximo\, para las distintas modalidades de postulación.\n \nFecha de Cierre: La Oficina de Pueblos Originarios recepcionará formularios de postulación hasta el día  martes 10 de junio de 2025.\n\n\n\n\nCualquier información derivarlos a la Oficina de Pueblos Originarios (Retiro de bases y formularios\, aclaración de dudas o consultas\, recepción de formularios. etc.).\n\n\nAdjunto bases y formulario de postulación. Además se adjunta nómina de consultores disponibles para la realización de los posibles proyectos.\n\n\n\n\n\n\nPewkayal !!!!!\n\n📄 Bases de Riego\n📝 Formulario Postulación\n📎 Anexos\n👷 Consultores de Riego
URL:https://muniarauco.cl/evento/subsidio-construccion-obras-de-riego-y-o-drenaje-para-indigenas-de-las-regiones-del-biobio-nuble-y-maule/
CATEGORIES:Municipalidad
END:VEVENT
BEGIN:VEVENT
DTSTART;TZID=America/Halifax:20250613T160000
DTEND;TZID=America/Halifax:20250613T163000
DTSTAMP:20260419T160452
CREATED:20250527T164859Z
LAST-MODIFIED:20250527T164859Z
UID:49079-1749830400-1749832200@muniarauco.cl
SUMMARY:ELECCIÓN TALLER LABORAL PEÑA DORADA
DESCRIPTION:Artículo 21 bis de la ley 19.418. «La comisión electoral deberá comunicar al secretario municipal la realización de la elección del directorio con al menos quince días hábiles de anticipación a la fecha fijada para ella. En caso de omitir esta comunicación\, la elección no tendrá validez. Esta información deberá ser publicada por el secretario municipal en la página web institucional de la municipalidad al día siguiente hábil de la comunicación y hasta la fecha de la elección…
URL:https://muniarauco.cl/evento/eleccion-taller-laboral-pena-dorada/
LOCATION:SEDE JUNTA DE VECINOS FERNANDO SANTIVÁN S/N\, ARAUCO
END:VEVENT
BEGIN:VEVENT
DTSTART;TZID=America/Halifax:20250613T190000
DTEND;TZID=America/Halifax:20250613T213000
DTSTAMP:20260419T160452
CREATED:20250526T203923Z
LAST-MODIFIED:20250526T203923Z
UID:49072-1749841200-1749850200@muniarauco.cl
SUMMARY:ELECCIÓN   CLUB DE DOWNHILL TEAM SPECTRO ARAUCO
DESCRIPTION:Artículo 21 bis de la ley 19.418. «La comisión electoral deberá comunicar al secretario municipal la realización de la elección del directorio con al menos quince días hábiles de anticipación a la fecha fijada para ella. En caso de omitir esta comunicación\, la elección no tendrá validez. Esta información deberá ser publicada por el secretario municipal en la página web institucional de la municipalidad al día siguiente hábil de la comunicación y hasta la fecha de la elección…
URL:https://muniarauco.cl/evento/eleccion-club-de-downhill-team-spectro-arauco/
LOCATION:VICENTE MILLÁN N.º 456\, CARAMPANGUE
END:VEVENT
BEGIN:VEVENT
DTSTART;TZID=America/Halifax:20250615T100000
DTEND;TZID=America/Halifax:20250615T170000
DTSTAMP:20260419T160452
CREATED:20250523T185138Z
LAST-MODIFIED:20250523T185321Z
UID:49064-1749981600-1750006800@muniarauco.cl
SUMMARY:ELECCIÓN  JUNTA DE VECINOS CHILLANCITO
DESCRIPTION:Artículo 21 bis de la ley 19.418. «La comisión electoral deberá comunicar al secretario municipal la realización de la elección del directorio con al menos quince días hábiles de anticipación a la fecha fijada para ella. En caso de omitir esta comunicación\, la elección no tendrá validez. Esta información deberá ser publicada por el secretario municipal en la página web institucional de la municipalidad al día siguiente hábil de la comunicación y hasta la fecha de la elección…
URL:https://muniarauco.cl/evento/eleccion-junta-de-vecinos-chillancito/
LOCATION:SEDE JUNTA DE VECINOS CHILLANCITO
END:VEVENT
BEGIN:VEVENT
DTSTART;TZID=America/Halifax:20250615T103000
DTEND;TZID=America/Halifax:20250615T233000
DTSTAMP:20260419T160452
CREATED:20250523T184635Z
LAST-MODIFIED:20250523T184635Z
UID:49058-1749983400-1750030200@muniarauco.cl
SUMMARY:ELECCIÓN  AGRUPACIÓN DE RECOLECTORES DE ORILLA RENACER
DESCRIPTION:Artículo 21 bis de la ley 19.418. «La comisión electoral deberá comunicar al secretario municipal la realización de la elección del directorio con al menos quince días hábiles de anticipación a la fecha fijada para ella. En caso de omitir esta comunicación\, la elección no tendrá validez. Esta información deberá ser publicada por el secretario municipal en la página web institucional de la municipalidad al día siguiente hábil de la comunicación y hasta la fecha de la elección…
URL:https://muniarauco.cl/evento/eleccion-agrupacion-de-recolectores-de-orilla-renacer/
LOCATION:DEPENDENCIA DE BOMBEROS TUBUL\, AVENIDA DEL MAR S/N
END:VEVENT
BEGIN:VEVENT
DTSTART;TZID=America/Halifax:20250615T150000
DTEND;TZID=America/Halifax:20250615T170000
DTSTAMP:20260419T160452
CREATED:20250522T145853Z
LAST-MODIFIED:20250522T145853Z
UID:49043-1749999600-1750006800@muniarauco.cl
SUMMARY:ELECCIÓN  CLUB DEPORTIVO LAS PUENTES
DESCRIPTION:Artículo 21 bis de la ley 19.418. «La comisión electoral deberá comunicar al secretario municipal la realización de la elección del directorio con al menos quince días hábiles de anticipación a la fecha fijada para ella. En caso de omitir esta comunicación\, la elección no tendrá validez. Esta información deberá ser publicada por el secretario municipal en la página web institucional de la municipalidad al día siguiente hábil de la comunicación y hasta la fecha de la elección…
URL:https://muniarauco.cl/evento/eleccion-club-deportivo-las-puentes/
LOCATION:SEDE  CLUB DEPORTIVO LAS PUENTES
END:VEVENT
BEGIN:VEVENT
DTSTART;TZID=America/Halifax:20250616T150000
DTEND;TZID=America/Halifax:20250616T180000
DTSTAMP:20260419T160452
CREATED:20250529T194444Z
LAST-MODIFIED:20250529T194444Z
UID:49085-1750086000-1750096800@muniarauco.cl
SUMMARY:ELECCIÓN CLUB DE ADULTO MAYOR FE Y ESPERANZA
DESCRIPTION:Artículo 21 bis de la ley 19.418. «La comisión electoral deberá comunicar al secretario municipal la realización de la elección del directorio con al menos quince días hábiles de anticipación a la fecha fijada para ella. En caso de omitir esta comunicación\, la elección no tendrá validez. Esta información deberá ser publicada por el secretario municipal en la página web institucional de la municipalidad al día siguiente hábil de la comunicación y hasta la fecha de la elección…
URL:https://muniarauco.cl/evento/eleccion-club-de-adulto-mayor-fe-y-esperanza-2/
LOCATION:SEDE JUNTA DE VECINOS  POBLACIÓN NUEVA ESPERANZA\, CALLE LLEU LLEU N° 52\, ARAUCO
END:VEVENT
BEGIN:VEVENT
DTSTART;TZID=America/Halifax:20250617T150000
DTEND;TZID=America/Halifax:20250617T180000
DTSTAMP:20260419T160452
CREATED:20250527T142502Z
LAST-MODIFIED:20250527T142502Z
UID:49076-1750172400-1750183200@muniarauco.cl
SUMMARY:ELECCIÓN TALLER DE PINTURA ARTÍSTICA MATICES ARAUCO
DESCRIPTION:Artículo 21 bis de la ley 19.418. «La comisión electoral deberá comunicar al secretario municipal la realización de la elección del directorio con al menos quince días hábiles de anticipación a la fecha fijada para ella. En caso de omitir esta comunicación\, la elección no tendrá validez. Esta información deberá ser publicada por el secretario municipal en la página web institucional de la municipalidad al día siguiente hábil de la comunicación y hasta la fecha de la elección…
URL:https://muniarauco.cl/evento/eleccion-taller-de-pintura-artistica-matices-arauco-2/
LOCATION:SALA DE TALLER MATICES\, ESMERALDA ESQUINA TUCAPEL S/N\, ARAUCO
END:VEVENT
BEGIN:VEVENT
DTSTART;TZID=America/Halifax:20250621T170000
DTEND;TZID=America/Halifax:20250621T183000
DTSTAMP:20260419T160452
CREATED:20250605T145108Z
LAST-MODIFIED:20250605T145108Z
UID:49211-1750525200-1750530600@muniarauco.cl
SUMMARY:ELECCIÓN AGRUPACIÓN CORAZONES SOLIDARIOS ARAUCO
DESCRIPTION:Artículo 21 bis de la ley 19.418. «La comisión electoral deberá comunicar al secretario municipal la realización de la elección del directorio con al menos quince días hábiles de anticipación a la fecha fijada para ella. En caso de omitir esta comunicación\, la elección no tendrá validez. Esta información deberá ser publicada por el secretario municipal en la página web institucional de la municipalidad al día siguiente hábil de la comunicación y hasta la fecha de la elección…
URL:https://muniarauco.cl/evento/eleccion-agrupacion-corazones-solidarios-arauco/
LOCATION:AUDITORIO MUNICIPAL\, ESMERALDA N°411 ARAUCO
END:VEVENT
BEGIN:VEVENT
DTSTART;TZID=America/Halifax:20250622T100000
DTEND;TZID=America/Halifax:20250622T100000
DTSTAMP:20260419T160452
CREATED:20250603T201416Z
LAST-MODIFIED:20250603T201432Z
UID:49133-1750586400-1750586400@muniarauco.cl
SUMMARY:ELECCIÓN  AGRUPACIÓN CULTURAL ANTUPILLAN
DESCRIPTION:Artículo 21 bis de la ley 19.418. «La comisión electoral deberá comunicar al secretario municipal la realización de la elección del directorio con al menos quince días hábiles de anticipación a la fecha fijada para ella. En caso de omitir esta comunicación\, la elección no tendrá validez. Esta información deberá ser publicada por el secretario municipal en la página web institucional de la municipalidad al día siguiente hábil de la comunicación y hasta la fecha de la elección…
URL:https://muniarauco.cl/evento/eleccion-agrupacion-cultural-antupillan/
LOCATION:CENTRO COMUNITARIO LA CANTERA\, LARAQUETE
END:VEVENT
BEGIN:VEVENT
DTSTART;TZID=America/Halifax:20250627T103000
DTEND;TZID=America/Halifax:20250627T113000
DTSTAMP:20260419T160452
CREATED:20250612T184534Z
LAST-MODIFIED:20250612T184534Z
UID:49255-1751020200-1751023800@muniarauco.cl
SUMMARY:ELECCIÓN CLUB DE ADULTO MAYOR HOGAR DE ANCIANOS JUAN PABLO II
DESCRIPTION:Artículo 21 bis de la ley 19.418. «La comisión electoral deberá comunicar al secretario municipal la realización de la elección del directorio con al menos quince días hábiles de anticipación a la fecha fijada para ella. En caso de omitir esta comunicación\, la elección no tendrá validez. Esta información deberá ser publicada por el secretario municipal en la página web institucional de la municipalidad al día siguiente hábil de la comunicación y hasta la fecha de la elección…
URL:https://muniarauco.cl/evento/eleccion-club-de-adulto-mayor-hogar-de-ancianos-juan-pablo-ii/
LOCATION:HOGAR DE ANCIANOS JUAN PABLO II\, FUNDACIÓN LAS ROSAS\, LOS NOTROS N° 40\, ARAUCO
END:VEVENT
BEGIN:VEVENT
DTSTART;TZID=America/Halifax:20250627T120000
DTEND;TZID=America/Halifax:20250627T130000
DTSTAMP:20260419T160452
CREATED:20250603T201733Z
LAST-MODIFIED:20250603T201733Z
UID:49139-1751025600-1751029200@muniarauco.cl
SUMMARY:ELECCIÓN CLUB DE ADULTO MAYOR EL ATARDECER DE EL PIURE
DESCRIPTION:Artículo 21 bis de la ley 19.418. «La comisión electoral deberá comunicar al secretario municipal la realización de la elección del directorio con al menos quince días hábiles de anticipación a la fecha fijada para ella. En caso de omitir esta comunicación\, la elección no tendrá validez. Esta información deberá ser publicada por el secretario municipal en la página web institucional de la municipalidad al día siguiente hábil de la comunicación y hasta la fecha de la elección…
URL:https://muniarauco.cl/evento/eleccion-club-de-adulto-mayor-el-atardecer-de-el-piure/
LOCATION:SEDE DEL CLUB DE ADULTO MAYOR EL ATARDECER DE EL PIURE
END:VEVENT
BEGIN:VEVENT
DTSTART;TZID=America/Halifax:20250628T140000
DTEND;TZID=America/Halifax:20250628T150000
DTSTAMP:20260419T160452
CREATED:20250603T201602Z
LAST-MODIFIED:20250603T201602Z
UID:49136-1751119200-1751122800@muniarauco.cl
SUMMARY:ELECCIÓN  CLUB DE ADULTO MAYOR VILLA LAS PEÑAS
DESCRIPTION:Artículo 21 bis de la ley 19.418. «La comisión electoral deberá comunicar al secretario municipal la realización de la elección del directorio con al menos quince días hábiles de anticipación a la fecha fijada para ella. En caso de omitir esta comunicación\, la elección no tendrá validez. Esta información deberá ser publicada por el secretario municipal en la página web institucional de la municipalidad al día siguiente hábil de la comunicación y hasta la fecha de la elección…
URL:https://muniarauco.cl/evento/eleccion-club-de-adulto-mayor-villa-las-penas/
LOCATION:SEDE CLUB DE ADULTO MAYOR VILLA LAS PEÑAS
END:VEVENT
BEGIN:VEVENT
DTSTART;TZID=America/Halifax:20250628T140000
DTEND;TZID=America/Halifax:20250628T160000
DTSTAMP:20260419T160452
CREATED:20250609T144355Z
LAST-MODIFIED:20250609T144355Z
UID:49245-1751119200-1751126400@muniarauco.cl
SUMMARY:ELECCIÓN COMITÉ DE ALLEGADOS NUEVA CALETA LAS PEÑAS
DESCRIPTION:Artículo 21 bis de la ley 19.418. «La comisión electoral deberá comunicar al secretario municipal la realización de la elección del directorio con al menos quince días hábiles de anticipación a la fecha fijada para ella. En caso de omitir esta comunicación\, la elección no tendrá validez. Esta información deberá ser publicada por el secretario municipal en la página web institucional de la municipalidad al día siguiente hábil de la comunicación y hasta la fecha de la elección…
URL:https://muniarauco.cl/evento/eleccion-comite-de-allegados-nueva-caleta-las-penas/
LOCATION:CASA PARTICULAR SECTOR NUEVA CALETA LAS PÉÑAS S/N ARAUCO
END:VEVENT
BEGIN:VEVENT
DTSTART;TZID=America/Halifax:20250628T160000
DTEND;TZID=America/Halifax:20250628T180000
DTSTAMP:20260419T160452
CREATED:20250603T202042Z
LAST-MODIFIED:20250603T202107Z
UID:49142-1751126400-1751133600@muniarauco.cl
SUMMARY:ELECCIÓN COMUNIDAD CATÓLICA SAN JUAN BAUTISTA
DESCRIPTION:Artículo 21 bis de la ley 19.418. «La comisión electoral deberá comunicar al secretario municipal la realización de la elección del directorio con al menos quince días hábiles de anticipación a la fecha fijada para ella. En caso de omitir esta comunicación\, la elección no tendrá validez. Esta información deberá ser publicada por el secretario municipal en la página web institucional de la municipalidad al día siguiente hábil de la comunicación y hasta la fecha de la elección…
URL:https://muniarauco.cl/evento/eleccion-comunidad-catolica-san-juan-bautista/
LOCATION:SALÓN COMUNITARIO\, CONUMO BAJO S/N\, CARAMPANGUE
END:VEVENT
END:VCALENDAR