BEGIN:VCALENDAR
VERSION:2.0
PRODID:-//Ilustre Municipalidad de Arauco - ECPv6.14.2//NONSGML v1.0//EN
CALSCALE:GREGORIAN
METHOD:PUBLISH
X-ORIGINAL-URL:https://muniarauco.cl
X-WR-CALDESC:Eventos para Ilustre Municipalidad de Arauco
REFRESH-INTERVAL;VALUE=DURATION:PT1H
X-Robots-Tag:noindex
X-PUBLISHED-TTL:PT1H
BEGIN:VTIMEZONE
TZID:America/Halifax
BEGIN:DAYLIGHT
TZOFFSETFROM:-0400
TZOFFSETTO:-0300
TZNAME:ADT
DTSTART:20250309T060000
END:DAYLIGHT
BEGIN:STANDARD
TZOFFSETFROM:-0300
TZOFFSETTO:-0400
TZNAME:AST
DTSTART:20251102T050000
END:STANDARD
END:VTIMEZONE
BEGIN:VEVENT
DTSTART;TZID=America/Halifax:20250902T180000
DTEND;TZID=America/Halifax:20250902T193000
DTSTAMP:20260419T125129
CREATED:20250811T213054Z
LAST-MODIFIED:20250811T213054Z
UID:49478-1756836000-1756841400@muniarauco.cl
SUMMARY:ELECCIÓN CLUB DE PATINAJE Y HOCKEY TUREO
DESCRIPTION:rtículo 21 bis de la ley 19.418. «La comisión electoral deberá comunicar al secretario municipal la realización de la elección del directorio con al menos quince días hábiles de anticipación a la fecha fijada para ella. En caso de omitir esta comunicación\, la elección no tendrá validez. Esta información deberá ser publicada por el secretario municipal en la página web institucional de la municipalidad al día siguiente\, hábil de la comunicación y hasta la fecha de la elección…
URL:https://muniarauco.cl/evento/eleccion-club-de-patinaje-y-hockey-tureo/
LOCATION:CALLE IGNACIO CARRERA PINTO N° 9 INTERIOR\, RAMADILLAS
END:VEVENT
BEGIN:VEVENT
DTSTART;TZID=America/Halifax:20250907T150000
DTEND;TZID=America/Halifax:20250907T160000
DTSTAMP:20260419T125129
CREATED:20250820T200424Z
LAST-MODIFIED:20250820T200424Z
UID:49497-1757257200-1757260800@muniarauco.cl
SUMMARY:ELECCIÓN AGRUPACIÓN DE MUJERES RECOLECTORAS Y PESCADORAS ARTESANALES ESPERANZA MARINA
DESCRIPTION:Artículo 21 bis de la ley 19.418. «La comisión electoral deberá comunicar al secretario municipal la realización de la elección del directorio con al menos quince días hábiles de anticipación a la fecha fijada para ella. En caso de omitir esta comunicación\, la elección no tendrá validez. Esta información deberá ser publicada por el secretario municipal en la página web institucional de la municipalidad al día siguiente\, hábil de la comunicación y hasta la fecha de la elección…
URL:https://muniarauco.cl/evento/eleccion-agrupacion-de-mujeres-recolectoras-y-pescadoras-artesanales-esperanza-marina/
LOCATION:SEDE AGRUPACIÓN DE MUJERES RECOLECTORAS ARTESANALES ESPERANZA MARINA\, CALLE  O’HIGGINS CAMINO A LA PLAYA\, ARAUCO
END:VEVENT
BEGIN:VEVENT
DTSTART;TZID=America/Halifax:20250908T170000
DTEND;TZID=America/Halifax:20250908T200000
DTSTAMP:20260419T125129
CREATED:20250819T200909Z
LAST-MODIFIED:20250819T200909Z
UID:49494-1757350800-1757361600@muniarauco.cl
SUMMARY:ELECCIÓN ACADEMIA DE DANZAS PIEDRA CRUZ LARAQUETE
DESCRIPTION:Artículo 21 bis de la ley 19.418. «La comisión electoral deberá comunicar al secretario municipal la realización de la elección del directorio con al menos quince días hábiles de anticipación a la fecha fijada para ella. En caso de omitir esta comunicación\, la elección no tendrá validez. Esta información deberá ser publicada por el secretario municipal en la página web institucional de la municipalidad al día siguiente\, hábil de la comunicación y hasta la fecha de la elección…
URL:https://muniarauco.cl/evento/eleccion-academia-de-danzas-piedra-cruz-laraquete/
LOCATION:CENTRO COMUNITARIO LA CANTERA N° 80\, SECTOR ESCUELA\, LARAQUETE
END:VEVENT
BEGIN:VEVENT
DTSTART;TZID=America/Halifax:20250910T100000
DTEND;TZID=America/Halifax:20250910T130000
DTSTAMP:20260419T125129
CREATED:20250825T125209Z
LAST-MODIFIED:20250825T125209Z
UID:49645-1757498400-1757509200@muniarauco.cl
SUMMARY:ELECCIÓN  AGRUPACIÓN DE MANIPULADORAS DE ALIMENTO LAS PALOMITAS BLANCA
DESCRIPTION:Artículo 21 bis de la ley 19.418. «La comisión electoral deberá comunicar al secretario municipal la realización de la elección del directorio con al menos quince días hábiles de anticipación a la fecha fijada para ella. En caso de omitir esta comunicación\, la elección no tendrá validez. Esta información deberá ser publicada por el secretario municipal en la página web institucional de la municipalidad al día siguiente\, hábil de la comunicación y hasta la fecha de la elección…
URL:https://muniarauco.cl/evento/eleccion-agrupacion-de-manipuladoras-de-alimento-las-palomitas-blanca/
LOCATION:SEDE AGRUPACIÓN DE MANIPULADORAS DE ALIMENTO LAS PALOMITAS BLANCA\, CALLE GABRIELA MISTRAL S/N \, LARAQUETE
END:VEVENT
BEGIN:VEVENT
DTSTART;TZID=America/Halifax:20250912T140000
DTEND;TZID=America/Halifax:20250912T200000
DTSTAMP:20260419T125129
CREATED:20250825T183304Z
LAST-MODIFIED:20250825T183304Z
UID:49651-1757685600-1757707200@muniarauco.cl
SUMMARY:ELECCIÓN JUNTA DE VECINOS N°3 -R CARAMPANGUE
DESCRIPTION:Artículo 21 bis de la ley 19.418. «La comisión electoral deberá comunicar al secretario municipal la realización de la elección del directorio con al menos quince días hábiles de anticipación a la fecha fijada para ella. En caso de omitir esta comunicación\, la elección no tendrá validez. Esta información deberá ser publicada por el secretario municipal en la página web institucional de la municipalidad al día siguiente\, hábil de la comunicación y hasta la fecha de la elección…
URL:https://muniarauco.cl/evento/eleccion-junta-de-vecinos-n3-r-carampangue/
LOCATION:SALÓN IGLESIA PENTECOSTAL CARAMPANGUE S/N
END:VEVENT
BEGIN:VEVENT
DTSTART;TZID=America/Halifax:20250913T020000
DTEND;TZID=America/Halifax:20250913T170000
DTSTAMP:20260419T125129
CREATED:20250825T125343Z
LAST-MODIFIED:20250825T125343Z
UID:49648-1757728800-1757782800@muniarauco.cl
SUMMARY:ELECCIÓN JUNTA DE VECINOS POBLACIÓN EDUARDO FREI MONTALVA
DESCRIPTION:Artículo 21 bis de la ley 19.418. «La comisión electoral deberá comunicar al secretario municipal la realización de la elección del directorio con al menos quince días hábiles de anticipación a la fecha fijada para ella. En caso de omitir esta comunicación\, la elección no tendrá validez. Esta información deberá ser publicada por el secretario municipal en la página web institucional de la municipalidad al día siguiente\, hábil de la comunicación y hasta la fecha de la elección…
URL:https://muniarauco.cl/evento/eleccion-junta-de-vecinos-poblacion-eduardo-frei-montalva/
LOCATION:SEDE JUNTA DE VECINOS POBLACIÓN EDUARDO FREI MOMNTALVA\, PASAJE JUAN ANTONIO RIOS S/N\, ARAUCO
END:VEVENT
BEGIN:VEVENT
DTSTART;TZID=America/Halifax:20250913T150000
DTEND;TZID=America/Halifax:20250913T170000
DTSTAMP:20260419T125129
CREATED:20250829T145348Z
LAST-MODIFIED:20250829T145348Z
UID:49659-1757775600-1757782800@muniarauco.cl
SUMMARY:ELECCIÓN JUNTA DE VECINOS VILLA LOS ARRAYANES
DESCRIPTION:Artículo 21 bis de la ley 19.418. «La comisión electoral deberá comunicar al secretario municipal la realización de la elección del directorio con al menos quince días hábiles de anticipación a la fecha fijada para ella. En caso de omitir esta comunicación\, la elección no tendrá validez. Esta información deberá ser publicada por el secretario municipal en la página web institucional de la municipalidad al día siguiente\, hábil de la comunicación y hasta la fecha de la elección…
URL:https://muniarauco.cl/evento/eleccion-junta-de-vecinos-villa-los-arrayanes/
LOCATION:SEDE JUNTA DE VECINOS VILLA PORTAL DEL VALLE\, ARAUCO
END:VEVENT
BEGIN:VEVENT
DTSTART;TZID=America/Halifax:20250914T150000
DTEND;TZID=America/Halifax:20250914T180000
DTSTAMP:20260419T125129
CREATED:20250818T204425Z
LAST-MODIFIED:20250818T204425Z
UID:49491-1757862000-1757872800@muniarauco.cl
SUMMARY:ELECCIÓN JUNTA DE VECINOS LA UNIÓN SECTOR LA FAJA
DESCRIPTION:rtículo 21 bis de la ley 19.418. «La comisión electoral deberá comunicar al secretario municipal la realización de la elección del directorio con al menos quince días hábiles de anticipación a la fecha fijada para ella. En caso de omitir esta comunicación\, la elección no tendrá validez. Esta información deberá ser publicada por el secretario municipal en la página web institucional de la municipalidad al día siguiente\, hábil de la comunicación y hasta la fecha de la elección…
URL:https://muniarauco.cl/evento/eleccion-junta-de-vecinos-la-union-sector-la-faja/
LOCATION:SEDE JUNTA DE VECINOS LA UNIÓN SECTOR LA FAJA\, PICHILO S/N\, ARAUCO
END:VEVENT
BEGIN:VEVENT
DTSTART;TZID=America/Halifax:20250914T150000
DTEND;TZID=America/Halifax:20250914T180000
DTSTAMP:20260419T125129
CREATED:20250826T155657Z
LAST-MODIFIED:20250826T155657Z
UID:49654-1757862000-1757872800@muniarauco.cl
SUMMARY:ELECCIÓN JUNTA DE VECINOS ESTRELLA DE MAR SECTOR BARRIO PESCADOR
DESCRIPTION:Artículo 21 bis de la ley 19.418. «La comisión electoral deberá comunicar al secretario municipal la realización de la elección del directorio con al menos quince días hábiles de anticipación a la fecha fijada para ella. En caso de omitir esta comunicación\, la elección no tendrá validez. Esta información deberá ser publicada por el secretario municipal en la página web institucional de la municipalidad al día siguiente\, hábil de la comunicación y hasta la fecha de la elección…
URL:https://muniarauco.cl/evento/eleccion-junta-de-vecinos-estrella-de-mar-sector-barrio-pescador/
LOCATION:SEDE JUNTA DE VECINOS ESTRELLA DE MAR SECTOR BARRIO PESCADOR\, O’Higgins S/N\, ARAUCO
END:VEVENT
BEGIN:VEVENT
DTSTART;TZID=America/Halifax:20250925T090000
DTEND;TZID=America/Halifax:20250925T223000
DTSTAMP:20260419T125129
CREATED:20250829T145213Z
LAST-MODIFIED:20250829T145213Z
UID:49657-1758790800-1758839400@muniarauco.cl
SUMMARY:ELECCIÓN CÁMARA DE COMERCIO COMUNA DE ARAUCO
DESCRIPTION:Artículo 21 bis de la ley 19.418. «La comisión electoral deberá comunicar al secretario municipal la realización de la elección del directorio con al menos quince días hábiles de anticipación a la fecha fijada para ella. En caso de omitir esta comunicación\, la elección no tendrá validez. Esta información deberá ser publicada por el secretario municipal en la página web institucional de la municipalidad al día siguiente\, hábil de la comunicación y hasta la fecha de la elección…
URL:https://muniarauco.cl/evento/eleccion-camara-de-comercio-comuna-de-arauco/
END:VEVENT
BEGIN:VEVENT
DTSTART;TZID=America/Halifax:20250926T183000
DTEND;TZID=America/Halifax:20250926T210000
DTSTAMP:20260419T125129
CREATED:20250905T134331Z
LAST-MODIFIED:20250905T134331Z
UID:49666-1758911400-1758920400@muniarauco.cl
SUMMARY:ELECCIÓN COMITÉ DE ADELANTO Y DESARROLLO SECTOR EL FRAILE
DESCRIPTION:Artículo 21 bis de la ley 19.418. «La comisión electoral deberá comunicar al secretario municipal la realización de la elección del directorio con al menos quince días hábiles de anticipación a la fecha fijada para ella. En caso de omitir esta comunicación\, la elección no tendrá validez. Esta información deberá ser publicada por el secretario municipal en la página web institucional de la municipalidad al día siguiente\, hábil de la comunicación y hasta la fecha de la elección…
URL:https://muniarauco.cl/evento/eleccion-comite-de-adelanto-y-desarrollo-sector-el-fraile/
LOCATION:SEDE COMUNITARIA EL PARRÓN S/N\, ARAUCO
END:VEVENT
BEGIN:VEVENT
DTSTART;TZID=America/Halifax:20250929T190000
DTEND;TZID=America/Halifax:20250929T200000
DTSTAMP:20260419T125129
CREATED:20250905T134130Z
LAST-MODIFIED:20250905T134130Z
UID:49663-1759172400-1759176000@muniarauco.cl
SUMMARY:ELECCIÓN ASOCIACIÓN DEPORTIVA FOOT BALL AMATEUR ARAUCO
DESCRIPTION:Artículo 21 bis de la ley 19.418. «La comisión electoral deberá comunicar al secretario municipal la realización de la elección del directorio con al menos quince días hábiles de anticipación a la fecha fijada para ella. En caso de omitir esta comunicación\, la elección no tendrá validez. Esta información deberá ser publicada por el secretario municipal en la página web institucional de la municipalidad al día siguiente\, hábil de la comunicación y hasta la fecha de la elección…
URL:https://muniarauco.cl/evento/eleccion-asociacion-deportiva-foot-ball-amateur-arauco/
LOCATION:SEDE ASOCIACIÓN DE FÚTBOL\, CALLE LUIS CRUZ MARTÍNEZ S/N \, ARAUCO
END:VEVENT
BEGIN:VEVENT
DTSTART;TZID=America/Halifax:20251004T120000
DTEND;TZID=America/Halifax:20251004T130000
DTSTAMP:20260419T125129
CREATED:20250728T204527Z
LAST-MODIFIED:20250728T204527Z
UID:49424-1759579200-1759582800@muniarauco.cl
SUMMARY:ELECCIÓN AMIGOS "GRUPO SCOUTS PELLU WELANG"
DESCRIPTION:Artículo 21 bis de la ley 19.418. «La comisión electoral deberá comunicar al secretario municipal la realización de la elección del directorio con al menos quince días hábiles de anticipación a la fecha fijada para ella. En caso de omitir esta comunicación\, la elección no tendrá validez. Esta información deberá ser publicada por el secretario municipal en la página web institucional de la municipalidad al día siguiente\, hábil de la comunicación y hasta la fecha de la elección…
URL:https://muniarauco.cl/evento/eleccion-amigos-grupo-scouts-pellu-welang/
END:VEVENT
BEGIN:VEVENT
DTSTART;TZID=America/Halifax:20251008T150000
DTEND;TZID=America/Halifax:20251008T170000
DTSTAMP:20260419T125129
CREATED:20251008T183137Z
LAST-MODIFIED:20251008T183137Z
UID:49743-1759935600-1759942800@muniarauco.cl
SUMMARY:ELECCIÓN JUNTA DE VIGILANCIA RURAL ARAUCO
DESCRIPTION:Artículo 21 bis de la ley 19.418. «La comisión electoral deberá comunicar al secretario municipal la realización de la elección del directorio con al menos quince días hábiles de anticipación a la fecha fijada para ella. En caso de omitir esta comunicación\, la elección no tendrá validez. Esta información deberá ser publicada por el secretario municipal en la página web institucional de la municipalidad al día siguiente\, hábil de la comunicación y hasta la fecha de la elección….
URL:https://muniarauco.cl/evento/eleccion-junta-de-vigilancia-rural-arauco/
LOCATION:COMISARÍA DE ARAUCO\, CALLE CIENFUEGOS N°303.
END:VEVENT
BEGIN:VEVENT
DTSTART;TZID=America/Halifax:20251011T113000
DTEND;TZID=America/Halifax:20251011T143000
DTSTAMP:20260419T125129
CREATED:20250924T172206Z
LAST-MODIFIED:20250924T172206Z
UID:49695-1760182200-1760193000@muniarauco.cl
SUMMARY:ELECCIÓN CLUB DE ADULTO MAYOR EL SAUSALITO
DESCRIPTION:Artículo 21 bis de la ley 19.418. «La comisión electoral deberá comunicar al secretario municipal la realización de la elección del directorio con al menos quince días hábiles de anticipación a la fecha fijada para ella. En caso de omitir esta comunicación\, la elección no tendrá validez. Esta información deberá ser publicada por el secretario municipal en la página web institucional de la municipalidad al día siguiente\, hábil de la comunicación y hasta la fecha de la elección…
URL:https://muniarauco.cl/evento/eleccion-club-de-adulto-mayor-el-sausalito/
LOCATION:SEDE CLUB ADULTO MAYOR EL SAUSALITO.-
END:VEVENT
BEGIN:VEVENT
DTSTART;TZID=America/Halifax:20251011T190000
DTEND;TZID=America/Halifax:20251011T200000
DTSTAMP:20260419T125129
CREATED:20250923T130316Z
LAST-MODIFIED:20250923T130316Z
UID:49679-1760209200-1760212800@muniarauco.cl
SUMMARY:ELECCIÓN CLUB DE RAYUELA EL SAUCE
DESCRIPTION:Artículo 21 bis de la ley 19.418. «La comisión electoral deberá comunicar al secretario municipal la realización de la elección del directorio con al menos quince días hábiles de anticipación a la fecha fijada para ella. En caso de omitir esta comunicación\, la elección no tendrá validez. Esta información deberá ser publicada por el secretario municipal en la página web institucional de la municipalidad al día siguiente\, hábil de la comunicación y hasta la fecha de la elección…
URL:https://muniarauco.cl/evento/eleccion-club-de-rayuela-el-sauce/
LOCATION:SEDE SOCIAL CLUB DEPORTIVO ARTURO PRAT\, CALIFORNIA S/N\, ARAUCO.-
END:VEVENT
BEGIN:VEVENT
DTSTART;TZID=America/Halifax:20251015T180000
DTEND;TZID=America/Halifax:20251015T200000
DTSTAMP:20260419T125129
CREATED:20250930T144329Z
LAST-MODIFIED:20250930T144329Z
UID:49715-1760551200-1760558400@muniarauco.cl
SUMMARY:ELECCIÓN AGRUPACIÓN DE PROPIETARIOS DE HOSPEDAJES LARAQUETE
DESCRIPTION:Artículo 21 bis de la ley 19.418. «La comisión electoral deberá comunicar al secretario municipal la realización de la elección del directorio con al menos quince días hábiles de anticipación a la fecha fijada para ella. En caso de omitir esta comunicación\, la elección no tendrá validez. Esta información deberá ser publicada por el secretario municipal en la página web institucional de la municipalidad al día siguiente\, hábil de la comunicación y hasta la fecha de la elección…
URL:https://muniarauco.cl/evento/eleccion-agrupacion-de-propietarios-de-hospedajes-laraquete/
LOCATION:CALLE LOS COPIHUES N°90\, LARAQUETE SECTOR PLAYA.-
END:VEVENT
BEGIN:VEVENT
DTSTART;TZID=America/Halifax:20251016T150000
DTEND;TZID=America/Halifax:20251016T160000
DTSTAMP:20260419T125129
CREATED:20250930T132023Z
LAST-MODIFIED:20250930T132023Z
UID:49712-1760626800-1760630400@muniarauco.cl
SUMMARY:ELECCIÓN AGRUPACIÓN DE MUJERES RECOLECTORAS DE ORILLA DE RUMENA
DESCRIPTION:Artículo 21 bis de la ley 19.418. «La comisión electoral deberá comunicar al secretario municipal la realización de la elección del directorio con al menos quince días hábiles de anticipación a la fecha fijada para ella. En caso de omitir esta comunicación\, la elección no tendrá validez. Esta información deberá ser publicada por el secretario municipal en la página web institucional de la municipalidad al día siguiente\, hábil de la comunicación y hasta la fecha de la elección…
URL:https://muniarauco.cl/evento/eleccion-agrupacion-de-mujeres-recolectoras-de-orilla-de-rumena/
LOCATION:SEDE SINDICATO DE PESCADORES ARTESANALES DE RUMENA-
END:VEVENT
BEGIN:VEVENT
DTSTART;TZID=America/Halifax:20251017T150000
DTEND;TZID=America/Halifax:20251017T170000
DTSTAMP:20260419T125129
CREATED:20250924T172002Z
LAST-MODIFIED:20250924T172002Z
UID:49692-1760713200-1760720400@muniarauco.cl
SUMMARY:ELECCIÓN CLUB DE ADULTO MAYOR NUEVA VIDA
DESCRIPTION:Artículo 21 bis de la ley 19.418. «La comisión electoral deberá comunicar al secretario municipal la realización de la elección del directorio con al menos quince días hábiles de anticipación a la fecha fijada para ella. En caso de omitir esta comunicación\, la elección no tendrá validez. Esta información deberá ser publicada por el secretario municipal en la página web institucional de la municipalidad al día siguiente\, hábil de la comunicación y hasta la fecha de la elección… \n— \n—
URL:https://muniarauco.cl/evento/eleccion-club-de-adulto-mayor-nueva-vida/
LOCATION:EDE  CLUB ADULTO MAYOR NUEVA VIDA\, CALLE CAUPOLICAN S/N LARAQUETE.-
END:VEVENT
BEGIN:VEVENT
DTSTART;TZID=America/Halifax:20251019T150000
DTEND;TZID=America/Halifax:20251019T180000
DTSTAMP:20260419T125129
CREATED:20250930T144529Z
LAST-MODIFIED:20250930T144529Z
UID:49719-1760886000-1760896800@muniarauco.cl
SUMMARY:ELECCIÓN COMITÉ AGUA POTABLE PICHILO
DESCRIPTION:Artículo 21 bis de la ley 19.418. «La comisión electoral deberá comunicar al secretario municipal la realización de la elección del directorio con al menos quince días hábiles de anticipación a la fecha fijada para ella. En caso de omitir esta comunicación\, la elección no tendrá validez. Esta información deberá ser publicada por el secretario municipal en la página web institucional de la municipalidad al día siguiente\, hábil de la comunicación y hasta la fecha de la elección…
URL:https://muniarauco.cl/evento/eleccion-comite-agua-potable-pichilo/
LOCATION:SALÓN LOCAL EL ARRIERO PICHILO.-
END:VEVENT
BEGIN:VEVENT
DTSTART;TZID=America/Halifax:20251019T150000
DTEND;TZID=America/Halifax:20251019T180000
DTSTAMP:20260419T125129
CREATED:20250930T144816Z
LAST-MODIFIED:20250930T144816Z
UID:49723-1760886000-1760896800@muniarauco.cl
SUMMARY:ELECCIÓN COMITÉ AGUA POTABLE PICHILO
DESCRIPTION:Artículo 21 bis de la ley 19.418. «La comisión electoral deberá comunicar al secretario municipal la realización de la elección del directorio con al menos quince días hábiles de anticipación a la fecha fijada para ella. En caso de omitir esta comunicación\, la elección no tendrá validez. Esta información deberá ser publicada por el secretario municipal en la página web institucional de la municipalidad al día siguiente\, hábil de la comunicación y hasta la fecha de la elección…
URL:https://muniarauco.cl/evento/eleccion-comite-agua-potable-pichilo-2/
LOCATION:SALÓN LOCAL EL ARRIERO PICHILO.-
END:VEVENT
BEGIN:VEVENT
DTSTART;TZID=America/Halifax:20251019T190000
DTEND;TZID=America/Halifax:20251019T220000
DTSTAMP:20260419T125129
CREATED:20250930T131824Z
LAST-MODIFIED:20250930T131824Z
UID:49709-1760900400-1760911200@muniarauco.cl
SUMMARY:ELECCIÓN CLUB DEPORTIVO CAUPOLICAN DE ARAUCO
DESCRIPTION:Artículo 21 bis de la ley 19.418. «La comisión electoral deberá comunicar al secretario municipal la realización de la elección del directorio con al menos quince días hábiles de anticipación a la fecha fijada para ella. En caso de omitir esta comunicación\, la elección no tendrá validez. Esta información deberá ser publicada por el secretario municipal en la página web institucional de la municipalidad al día siguiente\, hábil de la comunicación y hasta la fecha de la elección…
URL:https://muniarauco.cl/evento/eleccion-club-deportivo-caupolican-de-arauco/
LOCATION:SEDE CLUB DEPORTIVO CAUPOLICAN\, LOS CARRERAS ESQUINA YUNGAY\, ARAUCO –
END:VEVENT
BEGIN:VEVENT
DTSTART;TZID=America/Halifax:20251022T100000
DTEND;TZID=America/Halifax:20251022T130000
DTSTAMP:20260419T125129
CREATED:20251008T182907Z
LAST-MODIFIED:20251008T182907Z
UID:49737-1761127200-1761138000@muniarauco.cl
SUMMARY:ELECCIÓN TALLER LABORAL PUNTAS Y PUNTADAS
DESCRIPTION:Artículo 21 bis de la ley 19.418. «La comisión electoral deberá comunicar al secretario municipal la realización de la elección del directorio con al menos quince días hábiles de anticipación a la fecha fijada para ella. En caso de omitir esta comunicación\, la elección no tendrá validez. Esta información deberá ser publicada por el secretario municipal en la página web institucional de la municipalidad al día siguiente\, hábil de la comunicación y hasta la fecha de la elección….
URL:https://muniarauco.cl/evento/eleccion-taller-laboral-puntas-y-puntadas/
LOCATION:CAPILLA SAGRADA FAMILIA\,  CALLE VICENTE MILLAN N°444\, CARAMPANGUE.-
END:VEVENT
BEGIN:VEVENT
DTSTART;TZID=America/Halifax:20251024T150000
DTEND;TZID=America/Halifax:20251024T180000
DTSTAMP:20260419T125129
CREATED:20251008T182746Z
LAST-MODIFIED:20251008T182746Z
UID:49734-1761318000-1761328800@muniarauco.cl
SUMMARY:ELECCIÓN AGRUPACIÓN DE MUJERES POR UN FUTURO MEJOR
DESCRIPTION:Artículo 21 bis de la ley 19.418. «La comisión electoral deberá comunicar al secretario municipal la realización de la elección del directorio con al menos quince días hábiles de anticipación a la fecha fijada para ella. En caso de omitir esta comunicación\, la elección no tendrá validez. Esta información deberá ser publicada por el secretario municipal en la página web institucional de la municipalidad al día siguiente\, hábil de la comunicación y hasta la fecha de la elección….
URL:https://muniarauco.cl/evento/eleccion-agrupacion-de-mujeres-por-un-futuro-mejor/
LOCATION:CASA PARTICULAR SOCIA SRA. ELIGA FERNÁNDEZ\, SECTOR PUERTO BRAVO S/N\, PUNTA LAVAPIE.-
END:VEVENT
BEGIN:VEVENT
DTSTART;TZID=America/Halifax:20251024T183000
DTEND;TZID=America/Halifax:20251024T200000
DTSTAMP:20260419T125129
CREATED:20251006T123846Z
LAST-MODIFIED:20251006T123846Z
UID:49725-1761330600-1761336000@muniarauco.cl
SUMMARY:ELECCIÓN CORO SAN JOSE DE ARAUCO
DESCRIPTION:Artículo 21 bis de la ley 19.418. «La comisión electoral deberá comunicar al secretario municipal la realización de la elección del directorio con al menos quince días hábiles de anticipación a la fecha fijada para ella. En caso de omitir esta comunicación\, la elección no tendrá validez. Esta información deberá ser publicada por el secretario municipal en la página web institucional de la municipalidad al día siguiente\, hábil de la comunicación y hasta la fecha de la elección….
URL:https://muniarauco.cl/evento/eleccion-coro-san-jose-de-arauco/
LOCATION:PARROQUIA SAN JOSÉ\, CAUPOLICAN 360\, ARAUCO.-
END:VEVENT
BEGIN:VEVENT
DTSTART;TZID=America/Halifax:20251025T030000
DTEND;TZID=America/Halifax:20251025T180000
DTSTAMP:20260419T125129
CREATED:20251009T145720Z
LAST-MODIFIED:20251009T145720Z
UID:49750-1761361200-1761415200@muniarauco.cl
SUMMARY:ELECCIÓN JUNTA DE VECINOS ARAUCO CENTRO PONIENTE
DESCRIPTION:Artículo 21 bis de la ley 19.418. «La comisión electoral deberá comunicar al secretario municipal la realización de la elección del directorio con al menos quince días hábiles de anticipación a la fecha fijada para ella. En caso de omitir esta comunicación\, la elección no tendrá validez. Esta información deberá ser publicada por el secretario municipal en la página web institucional de la municipalidad al día siguiente\, hábil de la comunicación y hasta la fecha de la elección….
URL:https://muniarauco.cl/evento/eleccion-junta-de-vecinos-arauco-centro-poniente/
LOCATION:CENTRO CULTURAL  ARAUCO.-
END:VEVENT
BEGIN:VEVENT
DTSTART;TZID=America/Halifax:20251026T150000
DTEND;TZID=America/Halifax:20251026T180000
DTSTAMP:20260419T125129
CREATED:20251008T134416Z
LAST-MODIFIED:20251008T134416Z
UID:49731-1761490800-1761501600@muniarauco.cl
SUMMARY:ELECCIÓN JUNTA DE VECINOS PICHILO
DESCRIPTION:Artículo 21 bis de la ley 19.418. «La comisión electoral deberá comunicar al secretario municipal la realización de la elección del directorio con al menos quince días hábiles de anticipación a la fecha fijada para ella. En caso de omitir esta comunicación\, la elección no tendrá validez. Esta información deberá ser publicada por el secretario municipal en la página web institucional de la municipalidad al día siguiente\, hábil de la comunicación y hasta la fecha de la elección….
URL:https://muniarauco.cl/evento/eleccion-junta-de-vecinos-pichilo/
LOCATION:MINI MARKET EL ARRIERO\, SECTOR PICHILO
END:VEVENT
BEGIN:VEVENT
DTSTART;TZID=America/Halifax:20251028T150000
DTEND;TZID=America/Halifax:20251028T170000
DTSTAMP:20260419T125129
CREATED:20251008T183021Z
LAST-MODIFIED:20251008T183021Z
UID:49740-1761663600-1761670800@muniarauco.cl
SUMMARY:ELECCIÓN AGRUPACIÓN CULTURAL Y SOLIDARIA MUJERES POR UN SUEÑO.
DESCRIPTION:Artículo 21 bis de la ley 19.418. «La comisión electoral deberá comunicar al secretario municipal la realización de la elección del directorio con al menos quince días hábiles de anticipación a la fecha fijada para ella. En caso de omitir esta comunicación\, la elección no tendrá validez. Esta información deberá ser publicada por el secretario municipal en la página web institucional de la municipalidad al día siguiente\, hábil de la comunicación y hasta la fecha de la elección….
URL:https://muniarauco.cl/evento/eleccion-agrupacion-cultural-y-solidaria-mujeres-por-un-sueno/
LOCATION:SEDE JJVV 5-R RAMADILLAS\, CALLE IGNACIO CARRERA PINTO N° 64.-
END:VEVENT
BEGIN:VEVENT
DTSTART;TZID=America/Halifax:20251028T153000
DTEND;TZID=America/Halifax:20251028T180000
DTSTAMP:20260419T125129
CREATED:20251009T123042Z
LAST-MODIFIED:20251009T123042Z
UID:49747-1761665400-1761674400@muniarauco.cl
SUMMARY:ELECCIÓN TALLER LABORAL AMISTAD Y ESPERANZA
DESCRIPTION:Artículo 21 bis de la ley 19.418. «La comisión electoral deberá comunicar al secretario municipal la realización de la elección del directorio con al menos quince días hábiles de anticipación a la fecha fijada para ella. En caso de omitir esta comunicación\, la elección no tendrá validez. Esta información deberá ser publicada por el secretario municipal en la página web institucional de la municipalidad al día siguiente\, hábil de la comunicación y hasta la fecha de la elección….
URL:https://muniarauco.cl/evento/eleccion-taller-laboral-amistad-y-esperanza/
LOCATION:SEDE TALLER LABORAL AMISTAD Y ESPERANZA.-
END:VEVENT
BEGIN:VEVENT
DTSTART;TZID=America/Halifax:20251029T180000
DTEND;TZID=America/Halifax:20251029T200000
DTSTAMP:20260419T125129
CREATED:20251014T155213Z
LAST-MODIFIED:20251014T155213Z
UID:49763-1761760800-1761768000@muniarauco.cl
SUMMARY:ELECCIÓN COMITÉ DE AGUA POTABLE RURAL Y ALCANTARILLADO NUEVA CALETA
DESCRIPTION:Artículo 21 bis de la ley 19.418. «La comisión electoral deberá comunicar al secretario municipal la realización de la elección del directorio con al menos quince días hábiles de anticipación a la fecha fijada para ella. En caso de omitir esta comunicación\, la elección no tendrá validez. Esta información deberá ser publicada por el secretario municipal en la página web institucional de la municipalidad al día siguiente\, hábil de la comunicación y hasta la fecha de la elección…
URL:https://muniarauco.cl/evento/eleccion-comite-de-agua-potable-rural-y-alcantarillado-nueva-caleta/
END:VEVENT
END:VCALENDAR