BEGIN:VCALENDAR
VERSION:2.0
PRODID:-//Ilustre Municipalidad de Arauco - ECPv6.14.2//NONSGML v1.0//EN
CALSCALE:GREGORIAN
METHOD:PUBLISH
X-ORIGINAL-URL:https://muniarauco.cl
X-WR-CALDESC:Eventos para Ilustre Municipalidad de Arauco
REFRESH-INTERVAL;VALUE=DURATION:PT1H
X-Robots-Tag:noindex
X-PUBLISHED-TTL:PT1H
BEGIN:VTIMEZONE
TZID:America/Halifax
BEGIN:DAYLIGHT
TZOFFSETFROM:-0400
TZOFFSETTO:-0300
TZNAME:ADT
DTSTART:20250309T060000
END:DAYLIGHT
BEGIN:STANDARD
TZOFFSETFROM:-0300
TZOFFSETTO:-0400
TZNAME:AST
DTSTART:20251102T050000
END:STANDARD
END:VTIMEZONE
BEGIN:VEVENT
DTSTART;TZID=America/Halifax:20250815T200000
DTEND;TZID=America/Halifax:20250815T220000
DTSTAMP:20260419T161237
CREATED:20250708T195028Z
LAST-MODIFIED:20250708T195028Z
UID:49344-1755288000-1755295200@muniarauco.cl
SUMMARY:ELECCIÓN ESBIVA ESCUELA BÍBLICA DE VACACIONES
DESCRIPTION:Artículo 21 bis de la ley 19.418. «La comisión electoral deberá comunicar al secretario municipal la realización de la elección del directorio con al menos quince días hábiles de anticipación a la fecha fijada para ella. En caso de omitir esta comunicación\, la elección no tendrá validez. Esta información deberá ser publicada por el secretario municipal en la página web institucional de la municipalidad al día siguiente\, hábil de la comunicación y hasta la fecha de la elección…
URL:https://muniarauco.cl/evento/eleccion-esbiva-escuela-biblica-de-vacaciones/
LOCATION:CASA PARTICULAR EN CALLE CARLOS CONDELL N°685\, ARAUCO
END:VEVENT
BEGIN:VEVENT
DTSTART;TZID=America/Halifax:20250816T150000
DTEND;TZID=America/Halifax:20250816T170000
DTSTAMP:20260419T161237
CREATED:20250729T151359Z
LAST-MODIFIED:20250811T195453Z
UID:49429-1755356400-1755363600@muniarauco.cl
SUMMARY:ELECCIÓN JUNTA DE VECINOS LOS MAITENES
DESCRIPTION:SUSPENDIDA\n  \nArtículo 21 bis de la ley 19.418. «La comisión electoral deberá comunicar al secretario municipal la realización de la elección del directorio con al menos quince días hábiles de anticipación a la fecha fijada para ella. En caso de omitir esta comunicación\, la elección no tendrá validez. Esta información deberá ser publicada por el secretario municipal en la página web institucional de la municipalidad al día siguiente\, hábil de la comunicación y hasta la fecha de la elección… \n 
URL:https://muniarauco.cl/evento/eleccion-junta-de-vecinos-los-maitenes-2/
LOCATION:IGLESIA PENTECOSTAL DE CHILE LOS MAITENES S/N\, CARAMPANGUE
END:VEVENT
BEGIN:VEVENT
DTSTART;TZID=America/Halifax:20250816T160000
DTEND;TZID=America/Halifax:20250816T190000
DTSTAMP:20260419T161237
CREATED:20250801T145143Z
LAST-MODIFIED:20250801T145143Z
UID:49446-1755360000-1755370800@muniarauco.cl
SUMMARY:ELECCIÓN JUNTA DE VECINOS VILLA LA PAZ
DESCRIPTION:Artículo 21 bis de la ley 19.418. «La comisión electoral deberá comunicar al secretario municipal la realización de la elección del directorio con al menos quince días hábiles de anticipación a la fecha fijada para ella. En caso de omitir esta comunicación\, la elección no tendrá validez. Esta información deberá ser publicada por el secretario municipal en la página web institucional de la municipalidad al día siguiente\, hábil de la comunicación y hasta la fecha de la elección…
URL:https://muniarauco.cl/evento/eleccion-junta-de-vecinos-villa-la-paz-3/
LOCATION:SEDE JUNTA DE VECINOS VILLA LA PAZ\, CARAMPANGUE
END:VEVENT
BEGIN:VEVENT
DTSTART;TZID=America/Halifax:20250817T040000
DTEND;TZID=America/Halifax:20250817T190000
DTSTAMP:20260419T161237
CREATED:20250729T164935Z
LAST-MODIFIED:20250729T164935Z
UID:49432-1755403200-1755457200@muniarauco.cl
SUMMARY:ELECCIÓN JUNTA DE VECINOS VILLA LA PAZ
DESCRIPTION:Artículo 21 bis de la ley 19.418. «La comisión electoral deberá comunicar al secretario municipal la realización de la elección del directorio con al menos quince días hábiles de anticipación a la fecha fijada para ella. En caso de omitir esta comunicación\, la elección no tendrá validez. Esta información deberá ser publicada por el secretario municipal en la página web institucional de la municipalidad al día siguiente\, hábil de la comunicación y hasta la fecha de la elección…
URL:https://muniarauco.cl/evento/eleccion-junta-de-vecinos-villa-la-paz-2/
LOCATION:SEDE JUNTA DE VECINOS VILLA LA PAZ\, CARAMPANGUE
END:VEVENT
BEGIN:VEVENT
DTSTART;TZID=America/Halifax:20250817T100000
DTEND;TZID=America/Halifax:20250817T160000
DTSTAMP:20260419T161237
CREATED:20250728T204850Z
LAST-MODIFIED:20250728T204850Z
UID:49426-1755424800-1755446400@muniarauco.cl
SUMMARY:ELECCIÓN JUNTA DE VECINOS VILLA ESPERANZA DE CARAMPANGUE
DESCRIPTION:Artículo 21 bis de la ley 19.418. «La comisión electoral deberá comunicar al secretario municipal la realización de la elección del directorio con al menos quince días hábiles de anticipación a la fecha fijada para ella. En caso de omitir esta comunicación\, la elección no tendrá validez. Esta información deberá ser publicada por el secretario municipal en la página web institucional de la municipalidad al día siguiente\, hábil de la comunicación y hasta la fecha de la elección…
URL:https://muniarauco.cl/evento/eleccion-junta-de-vecinos-villa-esperanza-de-carampangue/
LOCATION:SEDE JUNTA DE VECINOS VILLA ESPERANZA DE CARAMPANGUE\, CALLE 2  N°153
END:VEVENT
BEGIN:VEVENT
DTSTART;TZID=America/Halifax:20250817T150000
DTEND;TZID=America/Halifax:20250817T170000
DTSTAMP:20260419T161237
CREATED:20250730T142904Z
LAST-MODIFIED:20250730T142904Z
UID:49439-1755442800-1755450000@muniarauco.cl
SUMMARY:ELECCIÓN AGRUPACIÓN DE VENDEDORES AMBULANTES DE ARAUCO
DESCRIPTION:Artículo 21 bis de la ley 19.418. «La comisión electoral deberá comunicar al secretario municipal la realización de la elección del directorio con al menos quince días hábiles de anticipación a la fecha fijada para ella. En caso de omitir esta comunicación\, la elección no tendrá validez. Esta información deberá ser publicada por el secretario municipal en la página web institucional de la municipalidad al día siguiente\, hábil de la comunicación y hasta la fecha de la elección…
URL:https://muniarauco.cl/evento/eleccion-agrupacion-de-vendedores-ambulantes-de-arauco/
LOCATION:DOMICILIO PARTICULAR\, LORD COCHRANE N°1132\, ARAUCO
END:VEVENT
BEGIN:VEVENT
DTSTART;TZID=America/Halifax:20250821T190000
DTEND;TZID=America/Halifax:20250821T200000
DTSTAMP:20260419T161237
CREATED:20250805T144513Z
LAST-MODIFIED:20250805T144513Z
UID:49455-1755802800-1755806400@muniarauco.cl
SUMMARY:ELECCIÓN ESCUELA DE DANZA FOLKLÓRICA DEYCAM
DESCRIPTION:Artículo 21 bis de la ley 19.418. «La comisión electoral deberá comunicar al secretario municipal la realización de la elección del directorio con al menos quince días hábiles de anticipación a la fecha fijada para ella. En caso de omitir esta comunicación\, la elección no tendrá validez. Esta información deberá ser publicada por el secretario municipal en la página web institucional de la municipalidad al día siguiente\, hábil de la comunicación y hasta la fecha de la elección…
URL:https://muniarauco.cl/evento/eleccion-escuela-de-danza-folklorica-deycam/
LOCATION:CENTRO CULTURAL ARAUCO CARLOS CONDELL N°698\, ARAUCO
END:VEVENT
BEGIN:VEVENT
DTSTART;TZID=America/Halifax:20250823T030000
DTEND;TZID=America/Halifax:20250823T190000
DTSTAMP:20260419T161237
CREATED:20250731T195942Z
LAST-MODIFIED:20250731T195942Z
UID:49442-1755918000-1755975600@muniarauco.cl
SUMMARY:ELECCIÓN CLUB SOCIAL Y DEPORTIVO DE RAYUELA JOSE BRIONES
DESCRIPTION:Artículo 21 bis de la ley 19.418. «La comisión electoral deberá comunicar al secretario municipal la realización de la elección del directorio con al menos quince días hábiles de anticipación a la fecha fijada para ella. En caso de omitir esta comunicación\, la elección no tendrá validez. Esta información deberá ser publicada por el secretario municipal en la página web institucional de la municipalidad al día siguiente\, hábil de la comunicación y hasta la fecha de la elección…
URL:https://muniarauco.cl/evento/eleccion-club-social-y-deportivo-de-rayuela-jose-briones/
LOCATION:SEDE CLUB SOCIAL Y DEPORTIVO DE RAYUELA JOSE BRIONES\, CALLE ARTURO PRAT S/N\, TUBUL
END:VEVENT
BEGIN:VEVENT
DTSTART;TZID=America/Halifax:20250824T110000
DTEND;TZID=America/Halifax:20250824T180000
DTSTAMP:20260419T161237
CREATED:20250805T144334Z
LAST-MODIFIED:20250805T144334Z
UID:49452-1756033200-1756058400@muniarauco.cl
SUMMARY:ELECCIÓN JUNTA DE VECINOS N°2-R HORCONES
DESCRIPTION:Artículo 21 bis de la ley 19.418. «La comisión electoral deberá comunicar al secretario municipal la realización de la elección del directorio con al menos quince días hábiles de anticipación a la fecha fijada para ella. En caso de omitir esta comunicación\, la elección no tendrá validez. Esta información deberá ser publicada por el secretario municipal en la página web institucional de la municipalidad al día siguiente\, hábil de la comunicación y hasta la fecha de la elección…
URL:https://muniarauco.cl/evento/eleccion-junta-de-vecinos-n2-r-horcones/
LOCATION:SALA MULTIUSO CLUB DEPORTIVO\, SECTOR CANCHA S/N LOS HORCONES.-
END:VEVENT
BEGIN:VEVENT
DTSTART;TZID=America/Halifax:20250826T110000
DTEND;TZID=America/Halifax:20250826T123000
DTSTAMP:20260419T161237
CREATED:20250806T201650Z
LAST-MODIFIED:20250806T201650Z
UID:49461-1756206000-1756211400@muniarauco.cl
SUMMARY:ELECCIÓN TALLER LABORAL PARA UN FUTURO MEJOR
DESCRIPTION:Artículo 21 bis de la ley 19.418. «La comisión electoral deberá comunicar al secretario municipal la realización de la elección del directorio con al menos quince días hábiles de anticipación a la fecha fijada para ella. En caso de omitir esta comunicación\, la elección no tendrá validez. Esta información deberá ser publicada por el secretario municipal en la página web institucional de la municipalidad al día siguiente\, hábil de la comunicación y hasta la fecha de la elección…
URL:https://muniarauco.cl/evento/eleccion-taller-laboral-para-un-futuro-mejor/
LOCATION:DOMICILIO PARTICULAR\, SECTOR CONUMO ALTO S/N\, CARAMPANGUE
END:VEVENT
BEGIN:VEVENT
DTSTART;TZID=America/Halifax:20250827T150000
DTEND;TZID=America/Halifax:20250827T200000
DTSTAMP:20260419T161237
CREATED:20250806T201820Z
LAST-MODIFIED:20250806T201820Z
UID:49464-1756306800-1756324800@muniarauco.cl
SUMMARY:ELECCIÓN CLUB ADULTO MAYOR LAS SOÑADORAS
DESCRIPTION:Artículo 21 bis de la ley 19.418. «La comisión electoral deberá comunicar al secretario municipal la realización de la elección del directorio con al menos quince días hábiles de anticipación a la fecha fijada para ella. En caso de omitir esta comunicación\, la elección no tendrá validez. Esta información deberá ser publicada por el secretario municipal en la página web institucional de la municipalidad al día siguiente\, hábil de la comunicación y hasta la fecha de la elección…
URL:https://muniarauco.cl/evento/eleccion-club-adulto-mayor-las-sonadoras/
LOCATION:SEDE TALLER LABORAL SANTA ESTER\, CALLE MONTT S/N LA QUINTA\, ARAUCO
END:VEVENT
BEGIN:VEVENT
DTSTART;TZID=America/Halifax:20250829T150000
DTEND;TZID=America/Halifax:20250829T190000
DTSTAMP:20260419T161237
CREATED:20250811T213226Z
LAST-MODIFIED:20250811T213226Z
UID:49481-1756479600-1756494000@muniarauco.cl
SUMMARY:ELECCIÓN AGRUPACIÓN DE ARMADORES  Y PESCADORES PELÁGICOS DE CALETA TUBUL
DESCRIPTION:Artículo 21 bis de la ley 19.418. «La comisión electoral deberá comunicar al secretario municipal la realización de la elección del directorio con al menos quince días hábiles de anticipación a la fecha fijada para ella. En caso de omitir esta comunicación\, la elección no tendrá validez. Esta información deberá ser publicada por el secretario municipal en la página web institucional de la municipalidad al día siguiente\, hábil de la comunicación y hasta la fecha de la elección…
URL:https://muniarauco.cl/evento/eleccion-agrupacion-de-armadores-y-pescadores-pelagicos-de-caleta-tubul/
LOCATION:COMPAÑÍA DE BOMBEROS DE TUBUL\, AVENIDA DE MAR S/N TUBUL
END:VEVENT
BEGIN:VEVENT
DTSTART;TZID=America/Halifax:20250829T160000
DTEND;TZID=America/Halifax:20250829T180000
DTSTAMP:20260419T161237
CREATED:20250807T131030Z
LAST-MODIFIED:20250807T131030Z
UID:49467-1756483200-1756490400@muniarauco.cl
SUMMARY:ELECCIÓN AGRUPACIÓN MUSICAL BATALLAS DEL GOLFO
DESCRIPTION:Artículo 21 bis de la ley 19.418. «La comisión electoral deberá comunicar al secretario municipal la realización de la elección del directorio con al menos quince días hábiles de anticipación a la fecha fijada para ella. En caso de omitir esta comunicación\, la elección no tendrá validez. Esta información deberá ser publicada por el secretario municipal en la página web institucional de la municipalidad al día siguiente\, hábil de la comunicación y hasta la fecha de la elección…
URL:https://muniarauco.cl/evento/eleccion-agrupacion-musical-batallas-del-golfo/
LOCATION:SEDE JUNTA DE VECINOS VILLA LAS ARAUCARIAS\, ARAUCO
END:VEVENT
BEGIN:VEVENT
DTSTART;TZID=America/Halifax:20250830T100000
DTEND;TZID=America/Halifax:20250830T130000
DTSTAMP:20260419T161237
CREATED:20250811T204109Z
LAST-MODIFIED:20250811T204109Z
UID:49475-1756548000-1756558800@muniarauco.cl
SUMMARY:ELECCIÓN COMITÉ DE AGUA POTABLE RURAL DE CONUMO
DESCRIPTION:Artículo 21 bis de la ley 19.418. «La comisión electoral deberá comunicar al secretario municipal la realización de la elección del directorio con al menos quince días hábiles de anticipación a la fecha fijada para ella. En caso de omitir esta comunicación\, la elección no tendrá validez. Esta información deberá ser publicada por el secretario municipal en la página web institucional de la municipalidad al día siguiente\, hábil de la comunicación y hasta la fecha de la elección…
URL:https://muniarauco.cl/evento/eleccion-comite-de-agua-potable-rural-de-conumo/
LOCATION:SEDE COMUNITARIA JUNTA DE VECINOS CONUMO ALTO
END:VEVENT
BEGIN:VEVENT
DTSTART;TZID=America/Halifax:20250830T160000
DTEND;TZID=America/Halifax:20250830T190000
DTSTAMP:20260419T161237
CREATED:20250818T124354Z
LAST-MODIFIED:20250818T124354Z
UID:49487-1756569600-1756580400@muniarauco.cl
SUMMARY:ELECCIÓN CLUB DEPORTIVO JUVENTUD RAMADILLAS
DESCRIPTION:Artículo 21 bis de la ley 19.418. «La comisión electoral deberá comunicar al secretario municipal la realización de la elección del directorio con al menos quince días hábiles de anticipación a la fecha fijada para ella. En caso de omitir esta comunicación\, la elección no tendrá validez. Esta información deberá ser publicada por el secretario municipal en la página web institucional de la municipalidad al día siguiente\, hábil de la comunicación y hasta la fecha de la elección…
URL:https://muniarauco.cl/evento/eleccion-club-deportivo-juventud-ramadillas/
LOCATION:SEDE CLUB DEPORTIVO JUVENTUD RAMADILLAS\, CALLE MOLINO DEL SOL S/N RAMADILLAS
END:VEVENT
BEGIN:VEVENT
DTSTART;TZID=America/Halifax:20250831T100000
DTEND;TZID=America/Halifax:20250831T160000
DTSTAMP:20260419T161237
CREATED:20250812T145604Z
LAST-MODIFIED:20250812T145604Z
UID:49484-1756634400-1756656000@muniarauco.cl
SUMMARY:ELECCIÓN JUNTA DE VECINOS VILLA ESMERALDA Y ENTRE LAGOS
DESCRIPTION:Artículo 21 bis de la ley 19.418. «La comisión electoral deberá comunicar al secretario municipal la realización de la elección del directorio con al menos quince días hábiles de anticipación a la fecha fijada para ella. En caso de omitir esta comunicación\, la elección no tendrá validez. Esta información deberá ser publicada por el secretario municipal en la página web institucional de la municipalidad al día siguiente\, hábil de la comunicación y hasta la fecha de la elección…
URL:https://muniarauco.cl/evento/eleccion-junta-de-vecinos-villa-esmeralda-y-entre-lagos/
LOCATION:SEDE JUNTA DE VECINOS VILLA ESMERALDA Y ENTRE LAGOS\, CALLE BÍO BÍO N° 10\, ARAUCO
END:VEVENT
BEGIN:VEVENT
DTSTART;TZID=America/Halifax:20250902T180000
DTEND;TZID=America/Halifax:20250902T193000
DTSTAMP:20260419T161237
CREATED:20250811T213054Z
LAST-MODIFIED:20250811T213054Z
UID:49478-1756836000-1756841400@muniarauco.cl
SUMMARY:ELECCIÓN CLUB DE PATINAJE Y HOCKEY TUREO
DESCRIPTION:rtículo 21 bis de la ley 19.418. «La comisión electoral deberá comunicar al secretario municipal la realización de la elección del directorio con al menos quince días hábiles de anticipación a la fecha fijada para ella. En caso de omitir esta comunicación\, la elección no tendrá validez. Esta información deberá ser publicada por el secretario municipal en la página web institucional de la municipalidad al día siguiente\, hábil de la comunicación y hasta la fecha de la elección…
URL:https://muniarauco.cl/evento/eleccion-club-de-patinaje-y-hockey-tureo/
LOCATION:CALLE IGNACIO CARRERA PINTO N° 9 INTERIOR\, RAMADILLAS
END:VEVENT
BEGIN:VEVENT
DTSTART;TZID=America/Halifax:20250907T150000
DTEND;TZID=America/Halifax:20250907T160000
DTSTAMP:20260419T161237
CREATED:20250820T200424Z
LAST-MODIFIED:20250820T200424Z
UID:49497-1757257200-1757260800@muniarauco.cl
SUMMARY:ELECCIÓN AGRUPACIÓN DE MUJERES RECOLECTORAS Y PESCADORAS ARTESANALES ESPERANZA MARINA
DESCRIPTION:Artículo 21 bis de la ley 19.418. «La comisión electoral deberá comunicar al secretario municipal la realización de la elección del directorio con al menos quince días hábiles de anticipación a la fecha fijada para ella. En caso de omitir esta comunicación\, la elección no tendrá validez. Esta información deberá ser publicada por el secretario municipal en la página web institucional de la municipalidad al día siguiente\, hábil de la comunicación y hasta la fecha de la elección…
URL:https://muniarauco.cl/evento/eleccion-agrupacion-de-mujeres-recolectoras-y-pescadoras-artesanales-esperanza-marina/
LOCATION:SEDE AGRUPACIÓN DE MUJERES RECOLECTORAS ARTESANALES ESPERANZA MARINA\, CALLE  O’HIGGINS CAMINO A LA PLAYA\, ARAUCO
END:VEVENT
BEGIN:VEVENT
DTSTART;TZID=America/Halifax:20250908T170000
DTEND;TZID=America/Halifax:20250908T200000
DTSTAMP:20260419T161237
CREATED:20250819T200909Z
LAST-MODIFIED:20250819T200909Z
UID:49494-1757350800-1757361600@muniarauco.cl
SUMMARY:ELECCIÓN ACADEMIA DE DANZAS PIEDRA CRUZ LARAQUETE
DESCRIPTION:Artículo 21 bis de la ley 19.418. «La comisión electoral deberá comunicar al secretario municipal la realización de la elección del directorio con al menos quince días hábiles de anticipación a la fecha fijada para ella. En caso de omitir esta comunicación\, la elección no tendrá validez. Esta información deberá ser publicada por el secretario municipal en la página web institucional de la municipalidad al día siguiente\, hábil de la comunicación y hasta la fecha de la elección…
URL:https://muniarauco.cl/evento/eleccion-academia-de-danzas-piedra-cruz-laraquete/
LOCATION:CENTRO COMUNITARIO LA CANTERA N° 80\, SECTOR ESCUELA\, LARAQUETE
END:VEVENT
BEGIN:VEVENT
DTSTART;TZID=America/Halifax:20250910T100000
DTEND;TZID=America/Halifax:20250910T130000
DTSTAMP:20260419T161237
CREATED:20250825T125209Z
LAST-MODIFIED:20250825T125209Z
UID:49645-1757498400-1757509200@muniarauco.cl
SUMMARY:ELECCIÓN  AGRUPACIÓN DE MANIPULADORAS DE ALIMENTO LAS PALOMITAS BLANCA
DESCRIPTION:Artículo 21 bis de la ley 19.418. «La comisión electoral deberá comunicar al secretario municipal la realización de la elección del directorio con al menos quince días hábiles de anticipación a la fecha fijada para ella. En caso de omitir esta comunicación\, la elección no tendrá validez. Esta información deberá ser publicada por el secretario municipal en la página web institucional de la municipalidad al día siguiente\, hábil de la comunicación y hasta la fecha de la elección…
URL:https://muniarauco.cl/evento/eleccion-agrupacion-de-manipuladoras-de-alimento-las-palomitas-blanca/
LOCATION:SEDE AGRUPACIÓN DE MANIPULADORAS DE ALIMENTO LAS PALOMITAS BLANCA\, CALLE GABRIELA MISTRAL S/N \, LARAQUETE
END:VEVENT
BEGIN:VEVENT
DTSTART;TZID=America/Halifax:20250912T140000
DTEND;TZID=America/Halifax:20250912T200000
DTSTAMP:20260419T161237
CREATED:20250825T183304Z
LAST-MODIFIED:20250825T183304Z
UID:49651-1757685600-1757707200@muniarauco.cl
SUMMARY:ELECCIÓN JUNTA DE VECINOS N°3 -R CARAMPANGUE
DESCRIPTION:Artículo 21 bis de la ley 19.418. «La comisión electoral deberá comunicar al secretario municipal la realización de la elección del directorio con al menos quince días hábiles de anticipación a la fecha fijada para ella. En caso de omitir esta comunicación\, la elección no tendrá validez. Esta información deberá ser publicada por el secretario municipal en la página web institucional de la municipalidad al día siguiente\, hábil de la comunicación y hasta la fecha de la elección…
URL:https://muniarauco.cl/evento/eleccion-junta-de-vecinos-n3-r-carampangue/
LOCATION:SALÓN IGLESIA PENTECOSTAL CARAMPANGUE S/N
END:VEVENT
BEGIN:VEVENT
DTSTART;TZID=America/Halifax:20250913T020000
DTEND;TZID=America/Halifax:20250913T170000
DTSTAMP:20260419T161237
CREATED:20250825T125343Z
LAST-MODIFIED:20250825T125343Z
UID:49648-1757728800-1757782800@muniarauco.cl
SUMMARY:ELECCIÓN JUNTA DE VECINOS POBLACIÓN EDUARDO FREI MONTALVA
DESCRIPTION:Artículo 21 bis de la ley 19.418. «La comisión electoral deberá comunicar al secretario municipal la realización de la elección del directorio con al menos quince días hábiles de anticipación a la fecha fijada para ella. En caso de omitir esta comunicación\, la elección no tendrá validez. Esta información deberá ser publicada por el secretario municipal en la página web institucional de la municipalidad al día siguiente\, hábil de la comunicación y hasta la fecha de la elección…
URL:https://muniarauco.cl/evento/eleccion-junta-de-vecinos-poblacion-eduardo-frei-montalva/
LOCATION:SEDE JUNTA DE VECINOS POBLACIÓN EDUARDO FREI MOMNTALVA\, PASAJE JUAN ANTONIO RIOS S/N\, ARAUCO
END:VEVENT
BEGIN:VEVENT
DTSTART;TZID=America/Halifax:20250913T150000
DTEND;TZID=America/Halifax:20250913T170000
DTSTAMP:20260419T161237
CREATED:20250829T145348Z
LAST-MODIFIED:20250829T145348Z
UID:49659-1757775600-1757782800@muniarauco.cl
SUMMARY:ELECCIÓN JUNTA DE VECINOS VILLA LOS ARRAYANES
DESCRIPTION:Artículo 21 bis de la ley 19.418. «La comisión electoral deberá comunicar al secretario municipal la realización de la elección del directorio con al menos quince días hábiles de anticipación a la fecha fijada para ella. En caso de omitir esta comunicación\, la elección no tendrá validez. Esta información deberá ser publicada por el secretario municipal en la página web institucional de la municipalidad al día siguiente\, hábil de la comunicación y hasta la fecha de la elección…
URL:https://muniarauco.cl/evento/eleccion-junta-de-vecinos-villa-los-arrayanes/
LOCATION:SEDE JUNTA DE VECINOS VILLA PORTAL DEL VALLE\, ARAUCO
END:VEVENT
BEGIN:VEVENT
DTSTART;TZID=America/Halifax:20250914T150000
DTEND;TZID=America/Halifax:20250914T180000
DTSTAMP:20260419T161237
CREATED:20250818T204425Z
LAST-MODIFIED:20250818T204425Z
UID:49491-1757862000-1757872800@muniarauco.cl
SUMMARY:ELECCIÓN JUNTA DE VECINOS LA UNIÓN SECTOR LA FAJA
DESCRIPTION:rtículo 21 bis de la ley 19.418. «La comisión electoral deberá comunicar al secretario municipal la realización de la elección del directorio con al menos quince días hábiles de anticipación a la fecha fijada para ella. En caso de omitir esta comunicación\, la elección no tendrá validez. Esta información deberá ser publicada por el secretario municipal en la página web institucional de la municipalidad al día siguiente\, hábil de la comunicación y hasta la fecha de la elección…
URL:https://muniarauco.cl/evento/eleccion-junta-de-vecinos-la-union-sector-la-faja/
LOCATION:SEDE JUNTA DE VECINOS LA UNIÓN SECTOR LA FAJA\, PICHILO S/N\, ARAUCO
END:VEVENT
BEGIN:VEVENT
DTSTART;TZID=America/Halifax:20250914T150000
DTEND;TZID=America/Halifax:20250914T180000
DTSTAMP:20260419T161237
CREATED:20250826T155657Z
LAST-MODIFIED:20250826T155657Z
UID:49654-1757862000-1757872800@muniarauco.cl
SUMMARY:ELECCIÓN JUNTA DE VECINOS ESTRELLA DE MAR SECTOR BARRIO PESCADOR
DESCRIPTION:Artículo 21 bis de la ley 19.418. «La comisión electoral deberá comunicar al secretario municipal la realización de la elección del directorio con al menos quince días hábiles de anticipación a la fecha fijada para ella. En caso de omitir esta comunicación\, la elección no tendrá validez. Esta información deberá ser publicada por el secretario municipal en la página web institucional de la municipalidad al día siguiente\, hábil de la comunicación y hasta la fecha de la elección…
URL:https://muniarauco.cl/evento/eleccion-junta-de-vecinos-estrella-de-mar-sector-barrio-pescador/
LOCATION:SEDE JUNTA DE VECINOS ESTRELLA DE MAR SECTOR BARRIO PESCADOR\, O’Higgins S/N\, ARAUCO
END:VEVENT
BEGIN:VEVENT
DTSTART;TZID=America/Halifax:20250925T090000
DTEND;TZID=America/Halifax:20250925T223000
DTSTAMP:20260419T161237
CREATED:20250829T145213Z
LAST-MODIFIED:20250829T145213Z
UID:49657-1758790800-1758839400@muniarauco.cl
SUMMARY:ELECCIÓN CÁMARA DE COMERCIO COMUNA DE ARAUCO
DESCRIPTION:Artículo 21 bis de la ley 19.418. «La comisión electoral deberá comunicar al secretario municipal la realización de la elección del directorio con al menos quince días hábiles de anticipación a la fecha fijada para ella. En caso de omitir esta comunicación\, la elección no tendrá validez. Esta información deberá ser publicada por el secretario municipal en la página web institucional de la municipalidad al día siguiente\, hábil de la comunicación y hasta la fecha de la elección…
URL:https://muniarauco.cl/evento/eleccion-camara-de-comercio-comuna-de-arauco/
END:VEVENT
BEGIN:VEVENT
DTSTART;TZID=America/Halifax:20250926T183000
DTEND;TZID=America/Halifax:20250926T210000
DTSTAMP:20260419T161237
CREATED:20250905T134331Z
LAST-MODIFIED:20250905T134331Z
UID:49666-1758911400-1758920400@muniarauco.cl
SUMMARY:ELECCIÓN COMITÉ DE ADELANTO Y DESARROLLO SECTOR EL FRAILE
DESCRIPTION:Artículo 21 bis de la ley 19.418. «La comisión electoral deberá comunicar al secretario municipal la realización de la elección del directorio con al menos quince días hábiles de anticipación a la fecha fijada para ella. En caso de omitir esta comunicación\, la elección no tendrá validez. Esta información deberá ser publicada por el secretario municipal en la página web institucional de la municipalidad al día siguiente\, hábil de la comunicación y hasta la fecha de la elección…
URL:https://muniarauco.cl/evento/eleccion-comite-de-adelanto-y-desarrollo-sector-el-fraile/
LOCATION:SEDE COMUNITARIA EL PARRÓN S/N\, ARAUCO
END:VEVENT
BEGIN:VEVENT
DTSTART;TZID=America/Halifax:20250929T190000
DTEND;TZID=America/Halifax:20250929T200000
DTSTAMP:20260419T161237
CREATED:20250905T134130Z
LAST-MODIFIED:20250905T134130Z
UID:49663-1759172400-1759176000@muniarauco.cl
SUMMARY:ELECCIÓN ASOCIACIÓN DEPORTIVA FOOT BALL AMATEUR ARAUCO
DESCRIPTION:Artículo 21 bis de la ley 19.418. «La comisión electoral deberá comunicar al secretario municipal la realización de la elección del directorio con al menos quince días hábiles de anticipación a la fecha fijada para ella. En caso de omitir esta comunicación\, la elección no tendrá validez. Esta información deberá ser publicada por el secretario municipal en la página web institucional de la municipalidad al día siguiente\, hábil de la comunicación y hasta la fecha de la elección…
URL:https://muniarauco.cl/evento/eleccion-asociacion-deportiva-foot-ball-amateur-arauco/
LOCATION:SEDE ASOCIACIÓN DE FÚTBOL\, CALLE LUIS CRUZ MARTÍNEZ S/N \, ARAUCO
END:VEVENT
BEGIN:VEVENT
DTSTART;TZID=America/Halifax:20251004T120000
DTEND;TZID=America/Halifax:20251004T130000
DTSTAMP:20260419T161237
CREATED:20250728T204527Z
LAST-MODIFIED:20250728T204527Z
UID:49424-1759579200-1759582800@muniarauco.cl
SUMMARY:ELECCIÓN AMIGOS "GRUPO SCOUTS PELLU WELANG"
DESCRIPTION:Artículo 21 bis de la ley 19.418. «La comisión electoral deberá comunicar al secretario municipal la realización de la elección del directorio con al menos quince días hábiles de anticipación a la fecha fijada para ella. En caso de omitir esta comunicación\, la elección no tendrá validez. Esta información deberá ser publicada por el secretario municipal en la página web institucional de la municipalidad al día siguiente\, hábil de la comunicación y hasta la fecha de la elección…
URL:https://muniarauco.cl/evento/eleccion-amigos-grupo-scouts-pellu-welang/
END:VEVENT
BEGIN:VEVENT
DTSTART;TZID=America/Halifax:20251008T150000
DTEND;TZID=America/Halifax:20251008T170000
DTSTAMP:20260419T161237
CREATED:20251008T183137Z
LAST-MODIFIED:20251008T183137Z
UID:49743-1759935600-1759942800@muniarauco.cl
SUMMARY:ELECCIÓN JUNTA DE VIGILANCIA RURAL ARAUCO
DESCRIPTION:Artículo 21 bis de la ley 19.418. «La comisión electoral deberá comunicar al secretario municipal la realización de la elección del directorio con al menos quince días hábiles de anticipación a la fecha fijada para ella. En caso de omitir esta comunicación\, la elección no tendrá validez. Esta información deberá ser publicada por el secretario municipal en la página web institucional de la municipalidad al día siguiente\, hábil de la comunicación y hasta la fecha de la elección….
URL:https://muniarauco.cl/evento/eleccion-junta-de-vigilancia-rural-arauco/
LOCATION:COMISARÍA DE ARAUCO\, CALLE CIENFUEGOS N°303.
END:VEVENT
END:VCALENDAR