BEGIN:VCALENDAR
VERSION:2.0
PRODID:-//Ilustre Municipalidad de Arauco - ECPv6.14.2//NONSGML v1.0//EN
CALSCALE:GREGORIAN
METHOD:PUBLISH
X-ORIGINAL-URL:https://muniarauco.cl
X-WR-CALDESC:Eventos para Ilustre Municipalidad de Arauco
REFRESH-INTERVAL;VALUE=DURATION:PT1H
X-Robots-Tag:noindex
X-PUBLISHED-TTL:PT1H
BEGIN:VTIMEZONE
TZID:America/Halifax
BEGIN:DAYLIGHT
TZOFFSETFROM:-0400
TZOFFSETTO:-0300
TZNAME:ADT
DTSTART:20250309T060000
END:DAYLIGHT
BEGIN:STANDARD
TZOFFSETFROM:-0300
TZOFFSETTO:-0400
TZNAME:AST
DTSTART:20251102T050000
END:STANDARD
END:VTIMEZONE
BEGIN:VEVENT
DTSTART;TZID=America/Halifax:20250627T103000
DTEND;TZID=America/Halifax:20250627T113000
DTSTAMP:20260419T232351
CREATED:20250612T184534Z
LAST-MODIFIED:20250612T184534Z
UID:49255-1751020200-1751023800@muniarauco.cl
SUMMARY:ELECCIÓN CLUB DE ADULTO MAYOR HOGAR DE ANCIANOS JUAN PABLO II
DESCRIPTION:Artículo 21 bis de la ley 19.418. «La comisión electoral deberá comunicar al secretario municipal la realización de la elección del directorio con al menos quince días hábiles de anticipación a la fecha fijada para ella. En caso de omitir esta comunicación\, la elección no tendrá validez. Esta información deberá ser publicada por el secretario municipal en la página web institucional de la municipalidad al día siguiente hábil de la comunicación y hasta la fecha de la elección…
URL:https://muniarauco.cl/evento/eleccion-club-de-adulto-mayor-hogar-de-ancianos-juan-pablo-ii/
LOCATION:HOGAR DE ANCIANOS JUAN PABLO II\, FUNDACIÓN LAS ROSAS\, LOS NOTROS N° 40\, ARAUCO
END:VEVENT
BEGIN:VEVENT
DTSTART;TZID=America/Halifax:20250627T120000
DTEND;TZID=America/Halifax:20250627T130000
DTSTAMP:20260419T232351
CREATED:20250603T201733Z
LAST-MODIFIED:20250603T201733Z
UID:49139-1751025600-1751029200@muniarauco.cl
SUMMARY:ELECCIÓN CLUB DE ADULTO MAYOR EL ATARDECER DE EL PIURE
DESCRIPTION:Artículo 21 bis de la ley 19.418. «La comisión electoral deberá comunicar al secretario municipal la realización de la elección del directorio con al menos quince días hábiles de anticipación a la fecha fijada para ella. En caso de omitir esta comunicación\, la elección no tendrá validez. Esta información deberá ser publicada por el secretario municipal en la página web institucional de la municipalidad al día siguiente hábil de la comunicación y hasta la fecha de la elección…
URL:https://muniarauco.cl/evento/eleccion-club-de-adulto-mayor-el-atardecer-de-el-piure/
LOCATION:SEDE DEL CLUB DE ADULTO MAYOR EL ATARDECER DE EL PIURE
END:VEVENT
BEGIN:VEVENT
DTSTART;TZID=America/Halifax:20250628T140000
DTEND;TZID=America/Halifax:20250628T150000
DTSTAMP:20260419T232351
CREATED:20250603T201602Z
LAST-MODIFIED:20250603T201602Z
UID:49136-1751119200-1751122800@muniarauco.cl
SUMMARY:ELECCIÓN  CLUB DE ADULTO MAYOR VILLA LAS PEÑAS
DESCRIPTION:Artículo 21 bis de la ley 19.418. «La comisión electoral deberá comunicar al secretario municipal la realización de la elección del directorio con al menos quince días hábiles de anticipación a la fecha fijada para ella. En caso de omitir esta comunicación\, la elección no tendrá validez. Esta información deberá ser publicada por el secretario municipal en la página web institucional de la municipalidad al día siguiente hábil de la comunicación y hasta la fecha de la elección…
URL:https://muniarauco.cl/evento/eleccion-club-de-adulto-mayor-villa-las-penas/
LOCATION:SEDE CLUB DE ADULTO MAYOR VILLA LAS PEÑAS
END:VEVENT
BEGIN:VEVENT
DTSTART;TZID=America/Halifax:20250628T140000
DTEND;TZID=America/Halifax:20250628T160000
DTSTAMP:20260419T232351
CREATED:20250609T144355Z
LAST-MODIFIED:20250609T144355Z
UID:49245-1751119200-1751126400@muniarauco.cl
SUMMARY:ELECCIÓN COMITÉ DE ALLEGADOS NUEVA CALETA LAS PEÑAS
DESCRIPTION:Artículo 21 bis de la ley 19.418. «La comisión electoral deberá comunicar al secretario municipal la realización de la elección del directorio con al menos quince días hábiles de anticipación a la fecha fijada para ella. En caso de omitir esta comunicación\, la elección no tendrá validez. Esta información deberá ser publicada por el secretario municipal en la página web institucional de la municipalidad al día siguiente hábil de la comunicación y hasta la fecha de la elección…
URL:https://muniarauco.cl/evento/eleccion-comite-de-allegados-nueva-caleta-las-penas/
LOCATION:CASA PARTICULAR SECTOR NUEVA CALETA LAS PÉÑAS S/N ARAUCO
END:VEVENT
BEGIN:VEVENT
DTSTART;TZID=America/Halifax:20250628T160000
DTEND;TZID=America/Halifax:20250628T180000
DTSTAMP:20260419T232351
CREATED:20250603T202042Z
LAST-MODIFIED:20250603T202107Z
UID:49142-1751126400-1751133600@muniarauco.cl
SUMMARY:ELECCIÓN COMUNIDAD CATÓLICA SAN JUAN BAUTISTA
DESCRIPTION:Artículo 21 bis de la ley 19.418. «La comisión electoral deberá comunicar al secretario municipal la realización de la elección del directorio con al menos quince días hábiles de anticipación a la fecha fijada para ella. En caso de omitir esta comunicación\, la elección no tendrá validez. Esta información deberá ser publicada por el secretario municipal en la página web institucional de la municipalidad al día siguiente hábil de la comunicación y hasta la fecha de la elección…
URL:https://muniarauco.cl/evento/eleccion-comunidad-catolica-san-juan-bautista/
LOCATION:SALÓN COMUNITARIO\, CONUMO BAJO S/N\, CARAMPANGUE
END:VEVENT
BEGIN:VEVENT
DTSTART;TZID=America/Halifax:20250628T160000
DTEND;TZID=America/Halifax:20250628T180000
DTSTAMP:20260419T232351
CREATED:20250606T125033Z
LAST-MODIFIED:20250606T125033Z
UID:49239-1751126400-1751133600@muniarauco.cl
SUMMARY:ELECCIÓN TALLER LABORAL FUERZA DE MUJER
DESCRIPTION:Artículo 21 bis de la ley 19.418. «La comisión electoral deberá comunicar al secretario municipal la realización de la elección del directorio con al menos quince días hábiles de anticipación a la fecha fijada para ella. En caso de omitir esta comunicación\, la elección no tendrá validez. Esta información deberá ser publicada por el secretario municipal en la página web institucional de la municipalidad al día siguiente hábil de la comunicación y hasta la fecha de la elección…
URL:https://muniarauco.cl/evento/eleccion-taller-laboral-fuerza-de-mujer/
LOCATION:CASA PARTICULAR\, LOS CÓNDORES N°1230\, VILLA LOS CASTAÑOS\, ARAUCO
END:VEVENT
BEGIN:VEVENT
DTSTART;TZID=America/Halifax:20250629T110000
DTEND;TZID=America/Halifax:20250629T160000
DTSTAMP:20260419T232351
CREATED:20250609T144220Z
LAST-MODIFIED:20250609T144220Z
UID:49242-1751194800-1751212800@muniarauco.cl
SUMMARY:ELECCIÓN JUNTA DE VECINOS LOS ABEDULES
DESCRIPTION:Artículo 21 bis de la ley 19.418. «La comisión electoral deberá comunicar al secretario municipal la realización de la elección del directorio con al menos quince días hábiles de anticipación a la fecha fijada para ella. En caso de omitir esta comunicación\, la elección no tendrá validez. Esta información deberá ser publicada por el secretario municipal en la página web institucional de la municipalidad al día siguiente hábil de la comunicación y hasta la fecha de la elección…
URL:https://muniarauco.cl/evento/eleccion-junta-de-vecinos-los-abedules/
LOCATION:SALÓN RESIDENCIAL BENJAMÍN\, LOS ABEDULES N° 32\, LARAQUETE
END:VEVENT
BEGIN:VEVENT
DTSTART;TZID=America/Halifax:20250703T143000
DTEND;TZID=America/Halifax:20250703T163000
DTSTAMP:20260419T232351
CREATED:20250623T163533Z
LAST-MODIFIED:20250623T163533Z
UID:49283-1751553000-1751560200@muniarauco.cl
SUMMARY:ELECCIÓN AGRUPACIÓN DE DISCAPACITADOS PSIQUICOS\, FAMILIARES Y AMIGOS ENTRE TODOS
DESCRIPTION:Artículo 21 bis de la ley 19.418. «La comisión electoral deberá comunicar al secretario municipal la realización de la elección del directorio con al menos quince días hábiles de anticipación a la fecha fijada para ella. En caso de omitir esta comunicación\, la elección no tendrá validez. Esta información deberá ser publicada por el secretario municipal en la página web institucional de la municipalidad al día siguiente hábil de la comunicación y hasta la fecha de la elección… \n—
URL:https://muniarauco.cl/evento/eleccion-agrupacion-de-discapacitados-psiquicos-familiares-y-amigos-entre-todos/
LOCATION:COSAN ARAUCO\, CAUPOLICAN  S/N\, ARAUCO
END:VEVENT
BEGIN:VEVENT
DTSTART;TZID=America/Halifax:20250703T173000
DTEND;TZID=America/Halifax:20250703T193000
DTSTAMP:20260419T232351
CREATED:20250612T184737Z
LAST-MODIFIED:20250612T184737Z
UID:49259-1751563800-1751571000@muniarauco.cl
SUMMARY:ELECCIÓN AGRUPACIÓN DE MUJERES FUTURO DE LLICO
DESCRIPTION:Artículo 21 bis de la ley 19.418. «La comisión electoral deberá comunicar al secretario municipal la realización de la elección del directorio con al menos quince días hábiles de anticipación a la fecha fijada para ella. En caso de omitir esta comunicación\, la elección no tendrá validez. Esta información deberá ser publicada por el secretario municipal en la página web institucional de la municipalidad al día siguiente hábil de la comunicación y hasta la fecha de la elección…
URL:https://muniarauco.cl/evento/eleccion-agrupacion-de-mujeres-futuro-de-llico/
LOCATION:SEDE SINDICATO Y AGRUPACIONES DE PESCADORES\, SECTOR LLICO
END:VEVENT
BEGIN:VEVENT
DTSTART;TZID=America/Halifax:20250706T130000
DTEND;TZID=America/Halifax:20250706T140000
DTSTAMP:20260419T232351
CREATED:20250623T163026Z
LAST-MODIFIED:20250623T163026Z
UID:49274-1751806800-1751810400@muniarauco.cl
SUMMARY:ELECCIÓN AGRUPACIÓN CRISTIANA KAIROS
DESCRIPTION:Artículo 21 bis de la ley 19.418. «La comisión electoral deberá comunicar al secretario municipal la realización de la elección del directorio con al menos quince días hábiles de anticipación a la fecha fijada para ella. En caso de omitir esta comunicación\, la elección no tendrá validez. Esta información deberá ser publicada por el secretario municipal en la página web institucional de la municipalidad al día siguiente hábil de la comunicación y hasta la fecha de la elección…
URL:https://muniarauco.cl/evento/eleccion-agrupacion-cristiana-kairos/
LOCATION:TEMPLO EVANGÉLICO EL CAMINO\, CAUPOLICAN  N.º 9\, ARAUCO
END:VEVENT
BEGIN:VEVENT
DTSTART;TZID=America/Halifax:20250706T143000
DTEND;TZID=America/Halifax:20250706T183000
DTSTAMP:20260419T232351
CREATED:20250612T185216Z
LAST-MODIFIED:20250612T185216Z
UID:49262-1751812200-1751826600@muniarauco.cl
SUMMARY:ELECCIÓN JUNTA DE VECINOS POBLACIÓN 12 DE ABRIL
DESCRIPTION:Artículo 21 bis de la ley 19.418. «La comisión electoral deberá comunicar al secretario municipal la realización de la elección del directorio con al menos quince días hábiles de anticipación a la fecha fijada para ella. En caso de omitir esta comunicación\, la elección no tendrá validez. Esta información deberá ser publicada por el secretario municipal en la página web institucional de la municipalidad al día siguiente hábil de la comunicación y hasta la fecha de la elección…
URL:https://muniarauco.cl/evento/eleccion-junta-de-vecinos-poblacion-12-de-abril/
LOCATION:SEDE JUNTA DE VECINOS POBLACIÓN 12 DE ABRIL\, PASAJE BRASIL N° 36\, ARAUCO
END:VEVENT
BEGIN:VEVENT
DTSTART;TZID=America/Halifax:20250710T150000
DTEND;TZID=America/Halifax:20250710T160000
DTSTAMP:20260419T232351
CREATED:20250623T163702Z
LAST-MODIFIED:20250623T163702Z
UID:49286-1752159600-1752163200@muniarauco.cl
SUMMARY:ELECCIÓN CLUB DE ADULTO MAYOR NUEVO ILUSIÓN
DESCRIPTION:Artículo 21 bis de la ley 19.418. «La comisión electoral deberá comunicar al secretario municipal la realización de la elección del directorio con al menos quince días hábiles de anticipación a la fecha fijada para ella. En caso de omitir esta comunicación\, la elección no tendrá validez. Esta información deberá ser publicada por el secretario municipal en la página web institucional de la municipalidad al día siguiente hábil de la comunicación y hasta la fecha de la elección… \n—
URL:https://muniarauco.cl/evento/eleccion-club-de-adulto-mayor-nuevo-ilusion/
LOCATION:SEDE ADULTO MAYOR NUEVA ILUSIÓN\, CALLE CAUPOLICAN  S/N\, ARAUCO
END:VEVENT
BEGIN:VEVENT
DTSTART;TZID=America/Halifax:20250712T150000
DTEND;TZID=America/Halifax:20250712T180000
DTSTAMP:20260419T232351
CREATED:20250624T170449Z
LAST-MODIFIED:20250624T170449Z
UID:49299-1752332400-1752343200@muniarauco.cl
SUMMARY:ELECCIÓN AGRUPACIÓN DE MUJERES EMPRENDEDORAS PUNTA LAVAPIÉ
DESCRIPTION:Artículo 21 bis de la ley 19.418. «La comisión electoral deberá comunicar al secretario municipal la realización de la elección del directorio con al menos quince días hábiles de anticipación a la fecha fijada para ella. En caso de omitir esta comunicación\, la elección no tendrá validez. Esta información deberá ser publicada por el secretario municipal en la página web institucional de la municipalidad al día siguiente hábil de la comunicación y hasta la fecha de la elección…
URL:https://muniarauco.cl/evento/eleccion-agrupacion-de-mujeres-emprendedoras-punta-lavapie/
LOCATION:COCINERÍA LUMITA\, PUERTO BRAVO S/N PUNTA LAVAPIÉ
END:VEVENT
BEGIN:VEVENT
DTSTART;TZID=America/Halifax:20250713T150000
DTEND;TZID=America/Halifax:20250713T163000
DTSTAMP:20260419T232351
CREATED:20250624T132904Z
LAST-MODIFIED:20250624T132904Z
UID:49296-1752418800-1752424200@muniarauco.cl
SUMMARY:ELECCIÓN JUNTA DE VECINOS RAQUI CHICO\, LAS LAJAS\, CENTINELA Y MERILUPO
DESCRIPTION:Artículo 21 bis de la ley 19.418. «La comisión electoral deberá comunicar al secretario municipal la realización de la elección del directorio con al menos quince días hábiles de anticipación a la fecha fijada para ella. En caso de omitir esta comunicación\, la elección no tendrá validez. Esta información deberá ser publicada por el secretario municipal en la página web institucional de la municipalidad al día siguiente hábil de la comunicación y hasta la fecha de la elección…
URL:https://muniarauco.cl/evento/eleccion-junta-de-vecinos-raqui-chico-las-lajas-centinela-y-merilupo/
LOCATION:SEDE JUNTA DE VECINOS RAQUI CHICO\, LAS LAJAS\, CENTINELA Y MERILUPO
END:VEVENT
BEGIN:VEVENT
DTSTART;TZID=America/Halifax:20250714T190000
DTEND;TZID=America/Halifax:20250714T210000
DTSTAMP:20260419T232351
CREATED:20250623T163202Z
LAST-MODIFIED:20250623T163202Z
UID:49277-1752519600-1752526800@muniarauco.cl
SUMMARY:ASOCIACIÓN DE FUTBOL DE CARAMPANGUE
DESCRIPTION:Artículo 21 bis de la ley 19.418. «La comisión electoral deberá comunicar al secretario municipal la realización de la elección del directorio con al menos quince días hábiles de anticipación a la fecha fijada para ella. En caso de omitir esta comunicación\, la elección no tendrá validez. Esta información deberá ser publicada por el secretario municipal en la página web institucional de la municipalidad al día sigui
URL:https://muniarauco.cl/evento/asociacion-de-futbol-de-carampangue/
LOCATION:SEDE ASOCIACIÓN DE FUTBOL DE CARAMPANGUE\, MANUEL LUENGOS S/N CARAMPANGUE.
END:VEVENT
BEGIN:VEVENT
DTSTART;TZID=America/Halifax:20250716T173000
DTEND;TZID=America/Halifax:20250716T210000
DTSTAMP:20260419T232351
CREATED:20250701T133709Z
LAST-MODIFIED:20250701T133850Z
UID:49306-1752687000-1752699600@muniarauco.cl
SUMMARY:ELECCIÓN COMITÉ DE ADELANTO UNIÓN LAS VEGAS
DESCRIPTION:Artículo 21 bis de la ley 19.418. «La comisión electoral deberá comunicar al secretario municipal la realización de la elección del directorio con al menos quince días hábiles de anticipación a la fecha fijada para ella. En caso de omitir esta comunicación\, la elección no tendrá validez. Esta información deberá ser publicada por el secretario municipal en la página web institucional de la municipalidad al día siguiente\, hábil de la comunicación y hasta la fecha de la elección…
URL:https://muniarauco.cl/evento/eleccion-comite-de-adelanto-union-las-vegas/
LOCATION:SEDE VILLA MOLINO DEL SOL S/N\, RAMADILLAS
END:VEVENT
BEGIN:VEVENT
DTSTART;TZID=America/Halifax:20250717T203000
DTEND;TZID=America/Halifax:20250717T213000
DTSTAMP:20260419T232351
CREATED:20250717T170720Z
LAST-MODIFIED:20250717T170720Z
UID:49387-1752784200-1752787800@muniarauco.cl
SUMMARY:ELECCIÓN ROTARY CLUB ARUCO
DESCRIPTION:Artículo 21 bis de la ley 19.418. «La comisión electoral deberá comunicar al secretario municipal la realización de la elección del directorio con al menos quince días hábiles de anticipación a la fecha fijada para ella. En caso de omitir esta comunicación\, la elección no tendrá validez. Esta información deberá ser publicada por el secretario municipal en la página web institucional de la municipalidad al día siguiente hábil de la comunicación y hasta la fecha de la elección…
URL:https://muniarauco.cl/evento/eleccion-rotary-club-aruco/
LOCATION:SEDE ROTARY CLUB ARAUCO\, AV. PRAT N°280\, ARAUCO.-
END:VEVENT
BEGIN:VEVENT
DTSTART;TZID=America/Halifax:20250718T160000
DTEND;TZID=America/Halifax:20250718T170000
DTSTAMP:20260419T232351
CREATED:20250703T132543Z
LAST-MODIFIED:20250703T132543Z
UID:49315-1752854400-1752858000@muniarauco.cl
SUMMARY:ELECCIÓN CORO POLIFONICO DOCENTE DE ARAUCO
DESCRIPTION:Artículo 21 bis de la ley 19.418. «La comisión electoral deberá comunicar al secretario municipal la realización de la elección del directorio con al menos quince días hábiles de anticipación a la fecha fijada para ella. En caso de omitir esta comunicación\, la elección no tendrá validez. Esta información deberá ser publicada por el secretario municipal en la página web institucional de la municipalidad al día siguiente\, hábil de la comunicación y hasta la fecha de la elección…
URL:https://muniarauco.cl/evento/eleccion-coro-polifonico-docente-de-arauco/
LOCATION:PARROQUIA SAN JOSÉ DE ARAUCO
END:VEVENT
BEGIN:VEVENT
DTSTART;TZID=America/Halifax:20250718T160000
DTEND;TZID=America/Halifax:20250718T180000
DTSTAMP:20260419T232351
CREATED:20250701T133555Z
LAST-MODIFIED:20250701T133555Z
UID:49303-1752854400-1752861600@muniarauco.cl
SUMMARY:ELECCIÓN AGRUPACIÓN DE MOTERAS DE LARAQUETE\, JUANA ARAVENA
DESCRIPTION:Artículo 21 bis de la ley 19.418. «La comisión electoral deberá comunicar al secretario municipal la realización de la elección del directorio con al menos quince días hábiles de anticipación a la fecha fijada para ella. En caso de omitir esta comunicación\, la elección no tendrá validez. Esta información deberá ser publicada por el secretario municipal en la página web institucional de la municipalidad al día siguiente\, hábil de la comunicación y hasta la fecha de la elección…
URL:https://muniarauco.cl/evento/eleccion-agrupacion-de-moteras-de-laraquete-juana-aravena/
LOCATION:SEDE EL BOLDO\, LOS ALAMOS S/N\, LARAQUETE
END:VEVENT
BEGIN:VEVENT
DTSTART;TZID=America/Halifax:20250719T020000
DTEND;TZID=America/Halifax:20250719T180000
DTSTAMP:20260419T232351
CREATED:20250701T134153Z
LAST-MODIFIED:20250701T134153Z
UID:49309-1752890400-1752948000@muniarauco.cl
SUMMARY:ELECCIÓN JUNTA DE VECINOS PLAYA SUR LARAQUETE
DESCRIPTION:Artículo 21 bis de la ley 19.418. «La comisión electoral deberá comunicar al secretario municipal la realización de la elección del directorio con al menos quince días hábiles de anticipación a la fecha fijada para ella. En caso de omitir esta comunicación\, la elección no tendrá validez. Esta información deberá ser publicada por el secretario municipal en la página web institucional de la municipalidad al día siguiente hábil de la comunicación y hasta la fecha de la elección…
URL:https://muniarauco.cl/evento/eleccion-junta-de-vecinos-playa-sur-laraquete/
LOCATION:SEDE VILLA VISTA HERMOSA S/N\, LARAQUETE
END:VEVENT
BEGIN:VEVENT
DTSTART;TZID=America/Halifax:20250719T160000
DTEND;TZID=America/Halifax:20250719T190000
DTSTAMP:20260419T232351
CREATED:20250707T172754Z
LAST-MODIFIED:20250707T172754Z
UID:49332-1752940800-1752951600@muniarauco.cl
SUMMARY:ELECCIÓN JUNTA DE VECINOS VILLA LA PAZ
DESCRIPTION:Artículo 21 bis de la ley 19.418. «La comisión electoral deberá comunicar al secretario municipal la realización de la elección del directorio con al menos quince días hábiles de anticipación a la fecha fijada para ella. En caso de omitir esta comunicación\, la elección no tendrá validez. Esta información deberá ser publicada por el secretario municipal en la página web institucional de la municipalidad al día siguiente\, hábil de la comunicación y hasta la fecha de la elección…
URL:https://muniarauco.cl/evento/eleccion-junta-de-vecinos-villa-la-paz/
LOCATION:SEDE COMUNITARIA VILLA LA PAZ\, PASAJE #01
END:VEVENT
BEGIN:VEVENT
DTSTART;TZID=America/Halifax:20250720T140000
DTEND;TZID=America/Halifax:20250720T170000
DTSTAMP:20260419T232351
CREATED:20250704T151253Z
LAST-MODIFIED:20250704T151253Z
UID:49328-1753020000-1753030800@muniarauco.cl
SUMMARY:ELECCIÓN JUNTA DE VECINOS LAS PEÑAS
DESCRIPTION:Artículo 21 bis de la ley 19.418. «La comisión electoral deberá comunicar al secretario municipal la realización de la elección del directorio con al menos quince días hábiles de anticipación a la fecha fijada para ella. En caso de omitir esta comunicación\, la elección no tendrá validez. Esta información deberá ser publicada por el secretario municipal en la página web institucional de la municipalidad al día siguiente\, hábil de la comunicación y hasta la fecha de la elección…
URL:https://muniarauco.cl/evento/eleccion-junta-de-vecinos-las-penas/
LOCATION:SEDE DE ADULTO MAYOR\, LAS PEÑAS
END:VEVENT
BEGIN:VEVENT
DTSTART;TZID=America/Halifax:20250723T160000
DTEND;TZID=America/Halifax:20250723T180000
DTSTAMP:20260419T232351
CREATED:20250723T130016Z
LAST-MODIFIED:20250723T130016Z
UID:49404-1753286400-1753293600@muniarauco.cl
SUMMARY:ELECCIÓN JUNTA DE VECINOS POBLACIÓN BELÉN
DESCRIPTION:Artículo 21 bis de la ley 19.418. «La comisión electoral deberá comunicar al secretario municipal la realización de la elección del directorio con al menos quince días hábiles de anticipación a la fecha fijada para ella. En caso de omitir esta comunicación\, la elección no tendrá validez. Esta información deberá ser publicada por el secretario municipal en la página web institucional de la municipalidad al día siguiente\, hábil de la comunicación y hasta la fecha de la elección…
URL:https://muniarauco.cl/evento/eleccion-junta-de-vecinos-poblacion-belen/
LOCATION:SEDE JUNTA DE VECINOS POBLACIÓN BÉLEN.-
END:VEVENT
BEGIN:VEVENT
DTSTART;TZID=America/Halifax:20250726T110000
DTEND;TZID=America/Halifax:20250726T130000
DTSTAMP:20260419T232351
CREATED:20250703T153556Z
LAST-MODIFIED:20250703T153556Z
UID:49321-1753527600-1753534800@muniarauco.cl
SUMMARY:ELECCIÓN ESCUADRA ECUESTRE CHILENA DE CARAMPANGUE
DESCRIPTION:Artículo 21 bis de la ley 19.418. «La comisión electoral deberá comunicar al secretario municipal la realización de la elección del directorio con al menos quince días hábiles de anticipación a la fecha fijada para ella. En caso de omitir esta comunicación\, la elección no tendrá validez. Esta información deberá ser publicada por el secretario municipal en la página web institucional de la municipalidad al día siguiente\, hábil de la comunicación y hasta la fecha de la elección.
URL:https://muniarauco.cl/evento/eleccion-escuadra-ecuestre-chilena-de-carampangue/
LOCATION:CLUB DE RODEO CARAMPANGUE
END:VEVENT
BEGIN:VEVENT
DTSTART;TZID=America/Halifax:20250726T140000
DTEND;TZID=America/Halifax:20250726T170000
DTSTAMP:20260419T232351
CREATED:20250708T194730Z
LAST-MODIFIED:20250708T194730Z
UID:49341-1753538400-1753549200@muniarauco.cl
SUMMARY:ELECCIÓN JUNTA DE VECINOS LOS MAITENES
DESCRIPTION:Artículo 21 bis de la ley 19.418. «La comisión electoral deberá comunicar al secretario municipal la realización de la elección del directorio con al menos quince días hábiles de anticipación a la fecha fijada para ella. En caso de omitir esta comunicación\, la elección no tendrá validez. Esta información deberá ser publicada por el secretario municipal en la página web institucional de la municipalidad al día siguiente\, hábil de la comunicación y hasta la fecha de la elección…
URL:https://muniarauco.cl/evento/eleccion-junta-de-vecinos-los-maitenes/
LOCATION:DOMICILIO PARTICULAR  SRA ALICIA VARGAS\, LOS MAITENES S/N\, CARAMPANGUE.-
END:VEVENT
BEGIN:VEVENT
DTSTART;TZID=America/Halifax:20250726T160000
DTEND;TZID=America/Halifax:20250726T180000
DTSTAMP:20260419T232351
CREATED:20250708T194251Z
LAST-MODIFIED:20250708T194251Z
UID:49335-1753545600-1753552800@muniarauco.cl
SUMMARY:ELECCIÓN COMITÉ DE ALLEGADOS NUESTRA CASA
DESCRIPTION:Artículo 21 bis de la ley 19.418. «La comisión electoral deberá comunicar al secretario municipal la realización de la elección del directorio con al menos quince días hábiles de anticipación a la fecha fijada para ella. En caso de omitir esta comunicación\, la elección no tendrá validez. Esta información deberá ser publicada por el secretario municipal en la página web institucional de la municipalidad al día siguiente\, hábil de la comunicación y hasta la fecha de la elección…
URL:https://muniarauco.cl/evento/eleccion-comite-de-allegados-nuestra-casa/
LOCATION:SEDE JUNTA DE VECINOS 5-R RAMADILLAS CALLE IGNACIO CARRERA PINTO S/N\, RAMADILLAS.-
END:VEVENT
BEGIN:VEVENT
DTSTART;TZID=America/Halifax:20250726T190000
DTEND;TZID=America/Halifax:20250726T210000
DTSTAMP:20260419T232351
CREATED:20250709T130547Z
LAST-MODIFIED:20250709T130547Z
UID:49347-1753556400-1753563600@muniarauco.cl
SUMMARY:ELECCIÓN CLUB DEPORTIVO ARTURO PRAT
DESCRIPTION:Artículo 21 bis de la ley 19.418. «La comisión electoral deberá comunicar al secretario municipal la realización de la elección del directorio con al menos quince días hábiles de anticipación a la fecha fijada para ella. En caso de omitir esta comunicación\, la elección no tendrá validez. Esta información deberá ser publicada por el secretario municipal en la página web institucional de la municipalidad al día siguiente\, hábil de la comunicación y hasta la fecha de la elección…
URL:https://muniarauco.cl/evento/eleccion-club-deportivo-arturo-prat/
LOCATION:SEDE SOCIAL CLUB DEPORTIVO ARTURO PRAT\, CALLE CALIFORNIA N° 205\, ARAUCO .-
END:VEVENT
BEGIN:VEVENT
DTSTART;TZID=America/Halifax:20250727T100000
DTEND;TZID=America/Halifax:20250727T160000
DTSTAMP:20260419T232351
CREATED:20250703T131324Z
LAST-MODIFIED:20250703T131324Z
UID:49312-1753610400-1753632000@muniarauco.cl
SUMMARY:ELECCIÓN JUNTA DE VECINOS VILLA VISTA AL SOL
DESCRIPTION:Artículo 21 bis de la ley 19.418. «La comisión electoral deberá comunicar al secretario municipal la realización de la elección del directorio con al menos quince días hábiles de anticipación a la fecha fijada para ella. En caso de omitir esta comunicación\, la elección no tendrá validez. Esta información deberá ser publicada por el secretario municipal en la página web institucional de la municipalidad al día siguiente\, hábil de la comunicación y hasta la fecha de la elección…
URL:https://muniarauco.cl/evento/eleccion-junta-de-vecinos-villa-vista-al-sol/
LOCATION:SEDE JUNTA DE VECINOS\, VILLA VISTA EL SOL
END:VEVENT
BEGIN:VEVENT
DTSTART;TZID=America/Halifax:20250727T100000
DTEND;TZID=America/Halifax:20250727T160000
DTSTAMP:20260419T232351
CREATED:20250708T194550Z
LAST-MODIFIED:20250708T194550Z
UID:49338-1753610400-1753632000@muniarauco.cl
SUMMARY:ELECCIÓN COMITÉ PRO VIVIENDA MAR AZUL
DESCRIPTION:Artículo 21 bis de la ley 19.418. «La comisión electoral deberá comunicar al secretario municipal la realización de la elección del directorio con al menos quince días hábiles de anticipación a la fecha fijada para ella. En caso de omitir esta comunicación\, la elección no tendrá validez. Esta información deberá ser publicada por el secretario municipal en la página web institucional de la municipalidad al día siguiente\, hábil de la comunicación y hasta la fecha de la elección…
URL:https://muniarauco.cl/evento/eleccion-comite-pro-vivienda-mar-azul/
LOCATION:SEDE JUNTA DE VECINOS VILLA EL BOSQUE S/N LARAQUETE.-
END:VEVENT
BEGIN:VEVENT
DTSTART;TZID=America/Halifax:20250727T140000
DTEND;TZID=America/Halifax:20250727T160000
DTSTAMP:20260419T232351
CREATED:20250623T163331Z
LAST-MODIFIED:20250623T163331Z
UID:49280-1753624800-1753632000@muniarauco.cl
SUMMARY:ELECCIÓN AGRUPACIÓN DE AGRICULTORES VALLE QUIAPO
DESCRIPTION:Artículo 21 bis de la ley 19.418. «La comisión electoral deberá comunicar al secretario municipal la realización de la elección del directorio con al menos quince días hábiles de anticipación a la fecha fijada para ella. En caso de omitir esta comunicación\, la elección no tendrá validez. Esta información deberá ser publicada por el secretario municipal en la página web institucional de la municipalidad al día siguiente hábil de la comunicación y hasta la fecha de la elección… \n—
URL:https://muniarauco.cl/evento/eleccion-agrupacion-de-agricultores-valle-quiapo/
LOCATION:CASA PARTICULAR SOCIO HÉCTOR BERNAL\, QUIAPO S/N
END:VEVENT
END:VCALENDAR