BEGIN:VCALENDAR
VERSION:2.0
PRODID:-//Ilustre Municipalidad de Arauco - ECPv6.14.2//NONSGML v1.0//EN
CALSCALE:GREGORIAN
METHOD:PUBLISH
X-WR-CALNAME:Ilustre Municipalidad de Arauco
X-ORIGINAL-URL:https://muniarauco.cl
X-WR-CALDESC:Eventos para Ilustre Municipalidad de Arauco
REFRESH-INTERVAL;VALUE=DURATION:PT1H
X-Robots-Tag:noindex
X-PUBLISHED-TTL:PT1H
BEGIN:VTIMEZONE
TZID:America/Halifax
BEGIN:DAYLIGHT
TZOFFSETFROM:-0400
TZOFFSETTO:-0300
TZNAME:ADT
DTSTART:20250309T060000
END:DAYLIGHT
BEGIN:STANDARD
TZOFFSETFROM:-0300
TZOFFSETTO:-0400
TZNAME:AST
DTSTART:20251102T050000
END:STANDARD
END:VTIMEZONE
BEGIN:VEVENT
DTSTART;TZID=America/Halifax:20251108T100000
DTEND;TZID=America/Halifax:20251108T130000
DTSTAMP:20260419T124658
CREATED:20251016T140408Z
LAST-MODIFIED:20251016T140408Z
UID:49773-1762596000-1762606800@muniarauco.cl
SUMMARY:ELECCIÓN ESCUELA DE FÚTBOL SEBASTIÁN GAETE
DESCRIPTION:Artículo 21 bis de la ley 19.418. «La comisión electoral deberá comunicar al secretario municipal la realización de la elección del directorio con al menos quince días hábiles de anticipación a la fecha fijada para ella. En caso de omitir esta comunicación\, la elección no tendrá validez. Esta información deberá ser publicada por el secretario municipal en la página web institucional de la municipalidad al día siguiente\, hábil de la comunicación y hasta la fecha de la elección…
URL:https://muniarauco.cl/evento/eleccion-escuela-de-futbol-sebastian-gaete/
LOCATION:ESTADIO MUNICIPAL DE ARAUCO\, AVENIDA ARTURO PRAT.-
END:VEVENT
BEGIN:VEVENT
DTSTART;TZID=America/Halifax:20251108T140000
DTEND;TZID=America/Halifax:20251108T170000
DTSTAMP:20260419T124658
CREATED:20251014T155350Z
LAST-MODIFIED:20251014T155350Z
UID:49765-1762610400-1762621200@muniarauco.cl
SUMMARY:ELECCIÓN JUNTA DE VECINOS SANTA CLARA EL CUCO Y LA CAL
DESCRIPTION:Artículo 21 bis de la ley 19.418. «La comisión electoral deberá comunicar al secretario municipal la realización de la elección del directorio con al menos quince días hábiles de anticipación a la fecha fijada para ella. En caso de omitir esta comunicación\, la elección no tendrá validez. Esta información deberá ser publicada por el secretario municipal en la página web institucional de la municipalidad al día siguiente\, hábil de la comunicación y hasta la fecha de la elección…
URL:https://muniarauco.cl/evento/eleccion-junta-de-vecinos-santa-clara-el-cuco-y-la-cal/
END:VEVENT
BEGIN:VEVENT
DTSTART;TZID=America/Halifax:20251109T140000
DTEND;TZID=America/Halifax:20251109T180000
DTSTAMP:20260419T124658
CREATED:20251014T155625Z
LAST-MODIFIED:20251014T155625Z
UID:49769-1762696800-1762711200@muniarauco.cl
SUMMARY:ELECCIÓN JUNTA DE VECINOS VILLA EL MIRADOR DE ARAUCO
DESCRIPTION:Artículo 21 bis de la ley 19.418. «La comisión electoral deberá comunicar al secretario municipal la realización de la elección del directorio con al menos quince días hábiles de anticipación a la fecha fijada para ella. En caso de omitir esta comunicación\, la elección no tendrá validez. Esta información deberá ser publicada por el secretario municipal en la página web institucional de la municipalidad al día siguiente\, hábil de la comunicación y hasta la fecha de la elección…
URL:https://muniarauco.cl/evento/eleccion-junta-de-vecinos-villa-el-mirador-de-arauco/
LOCATION:SEDE JUNTA DE VECINOS 10 DE JULIO\, ARAUCO.-
END:VEVENT
BEGIN:VEVENT
DTSTART;TZID=America/Halifax:20251112T180000
DTEND;TZID=America/Halifax:20251112T200000
DTSTAMP:20260419T124658
CREATED:20251017T161812Z
LAST-MODIFIED:20251017T161812Z
UID:49776-1762970400-1762977600@muniarauco.cl
SUMMARY:ELECCIÓN CLUB DE CUECA AMIGOS DEL FOLKLORE
DESCRIPTION:Artículo 21 bis de la ley 19.418. «La comisión electoral deberá comunicar al secretario municipal la realización de la elección del directorio con al menos quince días hábiles de anticipación a la fecha fijada para ella. En caso de omitir esta comunicación\, la elección no tendrá validez. Esta información deberá ser publicada por el secretario municipal en la página web institucional de la municipalidad al día siguiente\, hábil de la comunicación y hasta la fecha de la elección…
URL:https://muniarauco.cl/evento/eleccion-club-de-cueca-amigos-del-folklore/
LOCATION:OFICINA DE ESCUELA DE CONDUCTORES\, SERRANO N° 392\, ARAUCO.-
END:VEVENT
BEGIN:VEVENT
DTSTART;TZID=America/Halifax:20251114T090000
DTEND;TZID=America/Halifax:20251114T230000
DTSTAMP:20260419T124658
CREATED:20251103T132938Z
LAST-MODIFIED:20251103T132938Z
UID:49815-1763110800-1763161200@muniarauco.cl
SUMMARY:ELECCIÓN CENTRO GENERAL DE PADRES Y APODERADOS ESCUELA VALLE DE ARAUCO PICHILO
DESCRIPTION:Artículo 21 bis de la ley 19.418. «La comisión electoral deberá comunicar al secretario municipal la realización de la elección del directorio con al menos quince días hábiles de anticipación a la fecha fijada para ella. En caso de omitir esta comunicación\, la elección no tendrá validez. Esta información deberá ser publicada por el secretario municipal en la página web institucional de la municipalidad al día siguiente\, hábil de la comunicación y hasta la fecha de la elección.
URL:https://muniarauco.cl/evento/eleccion-centro-general-de-padres-y-apoderados-escuela-valle-de-arauco-pichilo/
LOCATION:ESCUELA VALLE DE ARAUCO PICHILO.
END:VEVENT
BEGIN:VEVENT
DTSTART;TZID=America/Halifax:20251114T170000
DTEND;TZID=America/Halifax:20251114T190000
DTSTAMP:20260419T124658
CREATED:20251023T140300Z
LAST-MODIFIED:20251023T140300Z
UID:49785-1763139600-1763146800@muniarauco.cl
SUMMARY:ELECCIÓN TALLER LABORAL CÍRCULO DE SABERES
DESCRIPTION:Artículo 21 bis de la ley 19.418. «La comisión electoral deberá comunicar al secretario municipal la realización de la elección del directorio con al menos quince días hábiles de anticipación a la fecha fijada para ella. En caso de omitir esta comunicación\, la elección no tendrá validez. Esta información deberá ser publicada por el secretario municipal en la página web institucional de la municipalidad al día siguiente\, hábil de la comunicación y hasta la fecha de la elección…
URL:https://muniarauco.cl/evento/eleccion-taller-laboral-circulo-de-saberes/
LOCATION:SEDE JUNTA DE VECINOS VILLA PEHUÉN 4\, PASAJE FARID METUAZE N°1842.-
END:VEVENT
BEGIN:VEVENT
DTSTART;TZID=America/Halifax:20251118T120000
DTEND;TZID=America/Halifax:20251118T140000
DTSTAMP:20260419T124658
CREATED:20251029T134825Z
LAST-MODIFIED:20251029T134825Z
UID:49791-1763467200-1763474400@muniarauco.cl
SUMMARY:ELECCIÓN FERIA SALUDABLE
DESCRIPTION:Artículo 21 bis de la ley 19.418. «La comisión electoral deberá comunicar al secretario municipal la realización de la elección del directorio con al menos quince días hábiles de anticipación a la fecha fijada para ella. En caso de omitir esta comunicación\, la elección no tendrá validez. Esta información deberá ser publicada por el secretario municipal en la página web institucional de la municipalidad al día siguiente\, hábil de la comunicación y hasta la fecha de la elección…
URL:https://muniarauco.cl/evento/eleccion-feria-saludable/
LOCATION:PLAZA DE ARAUCO.-
END:VEVENT
BEGIN:VEVENT
DTSTART;TZID=America/Halifax:20251122T180000
DTEND;TZID=America/Halifax:20251122T210000
DTSTAMP:20260419T124658
CREATED:20251029T134639Z
LAST-MODIFIED:20251029T134639Z
UID:49788-1763834400-1763845200@muniarauco.cl
SUMMARY:ELECCIÓN JUNTA DE VECINOS POBLACIÓN FERNANDO SANTIVAN
DESCRIPTION:Artículo 21 bis de la ley 19.418. «La comisión electoral deberá comunicar al secretario municipal la realización de la elección del directorio con al menos quince días hábiles de anticipación a la fecha fijada para ella. En caso de omitir esta comunicación\, la elección no tendrá validez. Esta información deberá ser publicada por el secretario municipal en la página web institucional de la municipalidad al día siguiente\, hábil de la comunicación y hasta la fecha de la elección…
URL:https://muniarauco.cl/evento/eleccion-junta-de-vecinos-poblacion-fernando-santivan/
LOCATION:SEDE JUNTA DE VECINOS POBLACIÓN FERNANDO SANTIVAN.-
END:VEVENT
BEGIN:VEVENT
DTSTART;TZID=America/Halifax:20251123T090000
DTEND;TZID=America/Halifax:20251123T143000
DTSTAMP:20260419T124658
CREATED:20251029T175644Z
LAST-MODIFIED:20251029T175644Z
UID:49797-1763888400-1763908200@muniarauco.cl
SUMMARY:ELECCIÓN AGRUPACIÓN DE FERIANTES TUBUL
DESCRIPTION:Artículo 21 bis de la ley 19.418. «La comisión electoral deberá comunicar al secretario municipal la realización de la elección del directorio con al menos quince días hábiles de anticipación a la fecha fijada para ella. En caso de omitir esta comunicación\, la elección no tendrá validez. Esta información deberá ser publicada por el secretario municipal en la página web institucional de la municipalidad al día siguiente\, hábil de la comunicación y hasta la fecha de la elección…
URL:https://muniarauco.cl/evento/eleccion-agrupacion-de-feriantes-tubul/
LOCATION:ESPACIO ABIERTO FERIA DE TUBUL\, AVENIDA PRINCIPAL ESCUELA VIEJA DE TUBUL.-
END:VEVENT
BEGIN:VEVENT
DTSTART;TZID=America/Halifax:20251124T103000
DTEND;TZID=America/Halifax:20251124T130000
DTSTAMP:20260419T124658
CREATED:20251104T124447Z
LAST-MODIFIED:20251104T124447Z
UID:49821-1763980200-1763989200@muniarauco.cl
SUMMARY:ELECCIÓN AGRUPACIÓN CAMPESINA FERIA ARAUCO RURAL
DESCRIPTION:Artículo 21 bis de la ley 19.418. «La comisión electoral deberá comunicar al secretario municipal la realización de la elección del directorio con al menos quince días hábiles de anticipación a la fecha fijada para ella. En caso de omitir esta comunicación\, la elección no tendrá validez. Esta información deberá ser publicada por el secretario municipal en la página web institucional de la municipalidad al día siguiente\, hábil de la comunicación y hasta la fecha de la elección…
URL:https://muniarauco.cl/evento/eleccion-agrupacion-campesina-feria-arauco-rural/
LOCATION:OFICINA INDAP 2° PISO\, PASAJE TENIENTE MERINO N°360\, ARAUCO.
END:VEVENT
BEGIN:VEVENT
DTSTART;TZID=America/Halifax:20251125T143000
DTEND;TZID=America/Halifax:20251125T173000
DTSTAMP:20260419T124658
CREATED:20251023T140012Z
LAST-MODIFIED:20251023T140012Z
UID:49782-1764081000-1764091800@muniarauco.cl
SUMMARY:ELECCIÓN CENTRO GENERAL DE PADRES Y APODERADOS ESCUELA E-727 MARE NOSTRUM
DESCRIPTION:Artículo 21 bis de la ley 19.418. «La comisión electoral deberá comunicar al secretario municipal la realización de la elección del directorio con al menos quince días hábiles de anticipación a la fecha fijada para ella. En caso de omitir esta comunicación\, la elección no tendrá validez. Esta información deberá ser publicada por el secretario municipal en la página web institucional de la municipalidad al día siguiente\, hábil de la comunicación y hasta la fecha de la elección…
URL:https://muniarauco.cl/evento/eleccion-centro-general-de-padres-y-apoderados-escuela-e-727-mare-nostrum/
LOCATION:ESCUELA MARE NOSTRUM\, CARLOS CONDELL N° 380\, ARAUCO.-
END:VEVENT
BEGIN:VEVENT
DTSTART;TZID=America/Halifax:20251126T160000
DTEND;TZID=America/Halifax:20251126T173000
DTSTAMP:20260419T124658
CREATED:20251106T190921Z
LAST-MODIFIED:20251106T190921Z
UID:49828-1764172800-1764178200@muniarauco.cl
SUMMARY:ELECCIÓN COMITÉ DE VIVIENDA PRIMAVERA
DESCRIPTION:Artículo 21 bis de la ley 19.418. «La comisión electoral deberá comunicar al secretario municipal la realización de la elección del directorio con al menos quince días hábiles de anticipación a la fecha fijada para ella. En caso de omitir esta comunicación\, la elección no tendrá validez. Esta información deberá ser publicada por el secretario municipal en la página web institucional de la municipalidad al día siguiente\, hábil de la comunicación y hasta la fecha de la elección…
URL:https://muniarauco.cl/evento/eleccion-comite-de-vivienda-primavera/
LOCATION:SEDE JUNTA DE VECINOS POBLACIÓN EDUARDO FREI MONTALVA
END:VEVENT
BEGIN:VEVENT
DTSTART;TZID=America/Halifax:20251127T070000
DTEND;TZID=America/Halifax:20251127T210000
DTSTAMP:20260419T124658
CREATED:20251104T124157Z
LAST-MODIFIED:20251104T124157Z
UID:49818-1764226800-1764277200@muniarauco.cl
SUMMARY:ELECCIÓN ASOCIACIÓN DE CRIADORES DE CABALLOS CHILENOS DE LA PROVINCIA DE ARAUCO
DESCRIPTION:Artículo 21 bis de la ley 19.418. «La comisión electoral deberá comunicar al secretario municipal la realización de la elección del directorio con al menos quince días hábiles de anticipación a la fecha fijada para ella. En caso de omitir esta comunicación\, la elección no tendrá validez. Esta información deberá ser publicada por el secretario municipal en la página web institucional de la municipalidad al día siguiente\, hábil de la comunicación y hasta la fecha de la elección…
URL:https://muniarauco.cl/evento/eleccion-asociacion-de-criadores-de-caballos-chilenos-de-la-provincia-de-arauco/
LOCATION:CASINO MEDIALUNA CARAMPANGUE\, ARAUCO.
END:VEVENT
BEGIN:VEVENT
DTSTART;TZID=America/Halifax:20251127T190000
DTEND;TZID=America/Halifax:20251127T210000
DTSTAMP:20260419T124658
CREATED:20251112T135624Z
LAST-MODIFIED:20251112T135624Z
UID:49841-1764270000-1764277200@muniarauco.cl
SUMMARY:ELECCIÓN UNIÓN DE IGLESIAS EVANGÉLICAS DE CARAMPANGUE
DESCRIPTION:Artículo 21 bis de la ley 19.418. «La comisión electoral deberá comunicar al secretario municipal la realización de la elección del directorio con al menos quince días hábiles de anticipación a la fecha fijada para ella. En caso de omitir esta comunicación\, la elección no tendrá validez. Esta información deberá ser publicada por el secretario municipal en la página web institucional de la municipalidad al día siguiente\, hábil de la comunicación y hasta la fecha de la elección…
URL:https://muniarauco.cl/evento/eleccion-union-de-iglesias-evangelicas-de-carampangue/
LOCATION:IGLESIA EVANGÉLICA WESLEYANA\, SECTOR CONUMO S/N\, ARAUCO.-
END:VEVENT
BEGIN:VEVENT
DTSTART;TZID=America/Halifax:20251129T140000
DTEND;TZID=America/Halifax:20251129T180000
DTSTAMP:20260419T124658
CREATED:20251112T135102Z
LAST-MODIFIED:20251112T135102Z
UID:49835-1764424800-1764439200@muniarauco.cl
SUMMARY:ELECCIÓN JUNTA DE VECINOS VILLA VISTA HERMOSA DE LARAQUETE
DESCRIPTION:Artículo 21 bis de la ley 19.418. «La comisión electoral deberá comunicar al secretario municipal la realización de la elección del directorio con al menos quince días hábiles de anticipación a la fecha fijada para ella. En caso de omitir esta comunicación\, la elección no tendrá validez. Esta información deberá ser publicada por el secretario municipal en la página web institucional de la municipalidad al día siguiente\, hábil de la comunicación y hasta la fecha de la elección…
URL:https://muniarauco.cl/evento/eleccion-junta-de-vecinos-villa-vista-hermosa-de-laraquete/
LOCATION:SEDE JUNTA DE VECINOS VILLA VISTA HERMOSA DE LARAQUETE .-
END:VEVENT
BEGIN:VEVENT
DTSTART;TZID=America/Halifax:20251129T160000
DTEND;TZID=America/Halifax:20251129T190000
DTSTAMP:20260419T124658
CREATED:20251112T135357Z
LAST-MODIFIED:20251112T135357Z
UID:49838-1764432000-1764442800@muniarauco.cl
SUMMARY:ELECCIÓN JUNTA DE VECINOS LOS MAITENES
DESCRIPTION:Artículo 21 bis de la ley 19.418. «La comisión electoral deberá comunicar al secretario municipal la realización de la elección del directorio con al menos quince días hábiles de anticipación a la fecha fijada para ella. En caso de omitir esta comunicación\, la elección no tendrá validez. Esta información deberá ser publicada por el secretario municipal en la página web institucional de la municipalidad al día siguiente\, hábil de la comunicación y hasta la fecha de la elección…
URL:https://muniarauco.cl/evento/eleccion-junta-de-vecinos-los-maitenes-3/
LOCATION:IGLESIA EVANGÉLICA POR LA SENDA DE LA VERDAD\, SECTOR LOS MAITENES S/N  ARAUCO.-
END:VEVENT
BEGIN:VEVENT
DTSTART;TZID=America/Halifax:20251130T093000
DTEND;TZID=America/Halifax:20251130T150000
DTSTAMP:20260419T124658
CREATED:20251029T175306Z
LAST-MODIFIED:20251029T175306Z
UID:49794-1764495000-1764514800@muniarauco.cl
SUMMARY:ELECCIÓN JUNTA DE VECINOS VILLA LAS ARAUCARIAS
DESCRIPTION:Artículo 21 bis de la ley 19.418. «La comisión electoral deberá comunicar al secretario municipal la realización de la elección del directorio con al menos quince días hábiles de anticipación a la fecha fijada para ella. En caso de omitir esta comunicación\, la elección no tendrá validez. Esta información deberá ser publicada por el secretario municipal en la página web institucional de la municipalidad al día siguiente\, hábil de la comunicación y hasta la fecha de la elección…
URL:https://muniarauco.cl/evento/eleccion-junta-de-vecinos-villa-las-araucarias/
LOCATION:SEDE JUNTA DE VECINOS VILLA LAS ARAUCARIAS\, CALLE N° 5\, ARAUCO.-
END:VEVENT
BEGIN:VEVENT
DTSTART;TZID=America/Halifax:20251202T190000
DTEND;TZID=America/Halifax:20251202T203000
DTSTAMP:20260419T124658
CREATED:20251113T135227Z
LAST-MODIFIED:20251113T135227Z
UID:49848-1764702000-1764707400@muniarauco.cl
SUMMARY:ELECCIÓN CÁMARA DE TURISMO Y DEPORTE DE ARAUCO
DESCRIPTION:Artículo 21 bis de la ley 19.418. «La comisión electoral deberá comunicar al secretario municipal la realización de la elección del directorio con al menos quince días hábiles de anticipación a la fecha fijada para ella. En caso de omitir esta comunicación\, la elección no tendrá validez. Esta información deberá ser publicada por el secretario municipal en la página web institucional de la municipalidad al día siguiente\, hábil de la comunicación y hasta la fecha de la elección…
URL:https://muniarauco.cl/evento/eleccion-camara-de-turismo-y-deporte-de-arauco/
LOCATION:RESTAURANT JARDÍN MARINO\,  ARAUCO.-
END:VEVENT
BEGIN:VEVENT
DTSTART;TZID=America/Halifax:20251205T150000
DTEND;TZID=America/Halifax:20251205T200000
DTSTAMP:20260419T124658
CREATED:20251118T124058Z
LAST-MODIFIED:20251118T124058Z
UID:49855-1764946800-1764964800@muniarauco.cl
SUMMARY:ELECCIÓN COMITÉ DE VIVIENDA FLORECER DE CONUMO
DESCRIPTION:Artículo 21 bis de la ley 19.418. «La comisión electoral deberá comunicar al secretario municipal la realización de la elección del directorio con al menos quince días hábiles de anticipación a la fecha fijada para ella. En caso de omitir esta comunicación\, la elección no tendrá validez. Esta información deberá ser publicada por el secretario municipal en la página web institucional de la municipalidad al día siguiente\, hábil de la comunicación y hasta la fecha de la elección…
URL:https://muniarauco.cl/evento/eleccion-comite-de-vivienda-florecer-de-conumo/
LOCATION:SEDE JUNTA DE VECINOS CONUMO ALTO\, ARAUCO.-
END:VEVENT
BEGIN:VEVENT
DTSTART;TZID=America/Halifax:20251206T150000
DTEND;TZID=America/Halifax:20251206T180000
DTSTAMP:20260419T124658
CREATED:20251113T135523Z
LAST-MODIFIED:20251113T150350Z
UID:49851-1765033200-1765044000@muniarauco.cl
SUMMARY:ELECCIÓN JUNTA DE VECINOS POBLACIÓN 10 DE JULIO
DESCRIPTION:Artículo 21 bis de la ley 19.418. «La comisión electoral deberá comunicar al secretario municipal la realización de la elección del directorio con al menos quince días hábiles de anticipación a la fecha fijada para ella. En caso de omitir esta comunicación\, la elección no tendrá validez. Esta información deberá ser publicada por el secretario municipal en la página web institucional de la municipalidad al día siguiente\, hábil de la comunicación y hasta la fecha de la elección…
URL:https://muniarauco.cl/evento/eleccion-junta-de-vecinos-poblacion-10-de-julio/
LOCATION:SEDE JUNTA DE VECINOS POBLACIÓN 10 DE JULIO\, ARAUCO.-
END:VEVENT
BEGIN:VEVENT
DTSTART;TZID=America/Halifax:20251206T150000
DTEND;TZID=America/Halifax:20251206T180000
DTSTAMP:20260419T124658
CREATED:20251118T124251Z
LAST-MODIFIED:20251118T124251Z
UID:49858-1765033200-1765044000@muniarauco.cl
SUMMARY:ELECCIÓN JUNTA DE VECINOS POBLACIÓN CALIFORNIA N°1
DESCRIPTION:Artículo 21 bis de la ley 19.418. «La comisión electoral deberá comunicar al secretario municipal la realización de la elección del directorio con al menos quince días hábiles de anticipación a la fecha fijada para ella. En caso de omitir esta comunicación\, la elección no tendrá validez. Esta información deberá ser publicada por el secretario municipal en la página web institucional de la municipalidad al día siguiente\, hábil de la comunicación y hasta la fecha de la elección…
URL:https://muniarauco.cl/evento/eleccion-junta-de-vecinos-poblacion-california-n1/
LOCATION:SEDE JUNTA DE VECINOS POBLACIÓN CALIFORNIA N°1\, ARAUCO.-
END:VEVENT
BEGIN:VEVENT
DTSTART;TZID=America/Halifax:20251209T060000
DTEND;TZID=America/Halifax:20251209T200000
DTSTAMP:20260419T124658
CREATED:20251204T160752Z
LAST-MODIFIED:20251204T160822Z
UID:49881-1765260000-1765310400@muniarauco.cl
SUMMARY:ELECCIÓN JUNTA DE VECINOS POBLACION CALIFORNIA NUMERO 1
DESCRIPTION:Artículo 21 bis de la ley 19.418. «La comisión electoral deberá comunicar al secretario municipal la realización de la elección del directorio con al menos quince días hábiles de anticipación a la fecha fijada para ella. En caso de omitir esta comunicación\, la elección no tendrá validez. Esta información deberá ser publicada por el secretario municipal en la página web institucional de la municipalidad al día siguiente\, hábil de la comunicación y hasta la fecha de la elección.
URL:https://muniarauco.cl/evento/eleccion-junta-de-vecinos-poblacion-california-numero-1/
LOCATION:SEDE JUNTA DE VECINOS POBLACION CALIFORNIA
END:VEVENT
BEGIN:VEVENT
DTSTART;TZID=America/Halifax:20251210T150000
DTEND;TZID=America/Halifax:20251210T180000
DTSTAMP:20260419T124658
CREATED:20251121T122831Z
LAST-MODIFIED:20251121T122831Z
UID:49862-1765378800-1765389600@muniarauco.cl
SUMMARY:ELECCIÓN VOLUNTARIADO ONCOLÓGICO UNA MANO AMIGA
DESCRIPTION:Artículo 21 bis de la ley 19.418. «La comisión electoral deberá comunicar al secretario municipal la realización de la elección del directorio con al menos quince días hábiles de anticipación a la fecha fijada para ella. En caso de omitir esta comunicación\, la elección no tendrá validez. Esta información deberá ser publicada por el secretario municipal en la página web institucional de la municipalidad al día siguiente\, hábil de la comunicación y hasta la fecha de la elección…
URL:https://muniarauco.cl/evento/eleccion-voluntariado-oncologico-una-mano-amiga/
LOCATION:DEPENDENCIAS HOSPITAL DE ARAUCO\, SALA VOLUNTARIADO ONCOLÓGICA\,  CALLE CAUPOLICAN S/N.-
END:VEVENT
BEGIN:VEVENT
DTSTART;TZID=America/Halifax:20251214T100000
DTEND;TZID=America/Halifax:20251214T160000
DTSTAMP:20260419T124658
CREATED:20251112T135812Z
LAST-MODIFIED:20251112T135812Z
UID:49844-1765706400-1765728000@muniarauco.cl
SUMMARY:ELECCIÓN ORGANIZACIÓN DE RECOLECTORES DE ORILLA ALGA MAR
DESCRIPTION:Artículo 21 bis de la ley 19.418. «La comisión electoral deberá comunicar al secretario municipal la realización de la elección del directorio con al menos quince días hábiles de anticipación a la fecha fijada para ella. En caso de omitir esta comunicación\, la elección no tendrá validez. Esta información deberá ser publicada por el secretario municipal en la página web institucional de la municipalidad al día siguiente\, hábil de la comunicación y hasta la fecha de la elección…
URL:https://muniarauco.cl/evento/eleccion-organizacion-de-recolectores-de-orilla-alga-mar/
LOCATION:CASA PARTICULAR SOCIO LUIS SÁEZ GALLEGOS\, SECTOR EL PIURE S/N\,  ARAUCO.-
END:VEVENT
BEGIN:VEVENT
DTSTART;TZID=America/Halifax:20251216T190000
DTEND;TZID=America/Halifax:20251216T200000
DTSTAMP:20260419T124658
CREATED:20251125T143802Z
LAST-MODIFIED:20251125T143802Z
UID:49865-1765911600-1765915200@muniarauco.cl
SUMMARY:ELECCIÓN TALLER LABORAL MI ESPERANZA
DESCRIPTION:Artículo 21 bis de la ley 19.418. «La comisión electoral deberá comunicar al secretario municipal la realización de la elección del directorio con al menos quince días hábiles de anticipación a la fecha fijada para ella. En caso de omitir esta comunicación\, la elección no tendrá validez. Esta información deberá ser publicada por el secretario municipal en la página web institucional de la municipalidad al día siguiente\, hábil de la comunicación y hasta la fecha de la elección…
URL:https://muniarauco.cl/evento/eleccion-taller-laboral-mi-esperanza/
LOCATION:TEMPLO EVANGÉLICO EBEN-EZER ARAUCO\, GUACOLDA S/N ARAUCO.-
END:VEVENT
BEGIN:VEVENT
DTSTART;TZID=America/Halifax:20251217T090000
DTEND;TZID=America/Halifax:20251217T160000
DTSTAMP:20260419T124658
CREATED:20251106T114110Z
LAST-MODIFIED:20251106T114110Z
UID:49825-1765962000-1765987200@muniarauco.cl
SUMMARY:ELECCIÓN CENTRO GENERAL DE PADRES Y APODERADOS ESCUELA BÁSICA F-728 DE CARAMPANGUE
DESCRIPTION:Artículo 21 bis de la ley 19.418. «La comisión electoral deberá comunicar al secretario municipal la realización de la elección del directorio con al menos quince días hábiles de anticipación a la fecha fijada para ella. En caso de omitir esta comunicación\, la elección no tendrá validez. Esta información deberá ser publicada por el secretario municipal en la página web institucional de la municipalidad al día siguiente\, hábil de la comunicación y hasta la fecha de la elección…
URL:https://muniarauco.cl/evento/eleccion-centro-general-de-padres-y-apoderados-escuela-basica-f-728-de-carampangue/
LOCATION:ESCUELA BÁSICA CARAMPANGUE
END:VEVENT
BEGIN:VEVENT
DTSTART;TZID=America/Halifax:20251218T110000
DTEND;TZID=America/Halifax:20251218T130000
DTSTAMP:20260419T124658
CREATED:20251201T151517Z
LAST-MODIFIED:20251201T151517Z
UID:49875-1766055600-1766062800@muniarauco.cl
SUMMARY:ELECCIÓN UNIÓN COMUNAL DE ORGANIZACIONES DE MUJERES DE LA COMUNA DE ARAUCO
DESCRIPTION:Artículo 21 bis de la ley 19.418. «La comisión electoral deberá comunicar al secretario municipal la realización de la elección del directorio con al menos quince días hábiles de anticipación a la fecha fijada para ella. En caso de omitir esta comunicación\, la elección no tendrá validez. Esta información deberá ser publicada por el secretario municipal en la página web institucional de la municipalidad al día siguiente\, hábil de la comunicación y hasta la fecha de la elección…
URL:https://muniarauco.cl/evento/eleccion-union-comunal-de-organizaciones-de-mujeres-de-la-comuna-de-arauco/
LOCATION:MUNICIPALIDAD DE ARAUCO\, OFICINA DE LA MUJER\, ESMERALDA N°411.-
END:VEVENT
BEGIN:VEVENT
DTSTART;TZID=America/Halifax:20251218T150000
DTEND;TZID=America/Halifax:20251218T170000
DTSTAMP:20260419T124658
CREATED:20251127T191153Z
LAST-MODIFIED:20251127T191153Z
UID:49871-1766070000-1766077200@muniarauco.cl
SUMMARY:ELECCIÓN TALLER LABORAL LAS MARGARITAS
DESCRIPTION:Artículo 21 bis de la ley 19.418. «La comisión electoral deberá comunicar al secretario municipal la realización de la elección del directorio con al menos quince días hábiles de anticipación a la fecha fijada para ella. En caso de omitir esta comunicación\, la elección no tendrá validez. Esta información deberá ser publicada por el secretario municipal en la página web institucional de la municipalidad al día siguiente\, hábil de la comunicación y hasta la fecha de la elección… \n—
URL:https://muniarauco.cl/evento/eleccion-taller-laboral-las-margaritas/
LOCATION:SEDE JUNTA DE VECINOS N°5R RAMADILLAS.-.-
END:VEVENT
BEGIN:VEVENT
DTSTART;TZID=America/Halifax:20251220T150000
DTEND;TZID=America/Halifax:20251220T190000
DTSTAMP:20260419T124658
CREATED:20251210T132913Z
LAST-MODIFIED:20251210T132913Z
UID:49889-1766242800-1766257200@muniarauco.cl
SUMMARY:ELECCIÓN ORGANIZACIÓN JUNTA DE VECINOS LA QUINTA N2
DESCRIPTION:Artículo 21 bis de la ley 19.418. «La comisión electoral deberá comunicar al secretario municipal la realización de la elección del directorio con al menos quince días hábiles de anticipación a la fecha fijada para ella. En caso de omitir esta comunicación\, la elección no tendrá validez. Esta información deberá ser publicada por el secretario municipal en la página web institucional de la municipalidad al día siguiente\, hábil de la comunicación y hasta la fecha de la elección…
URL:https://muniarauco.cl/evento/eleccion-organizacion-junta-de-vecinos-la-quinta-n2/
LOCATION:RESIDENCIAL LA QUINTA KORNER 572
END:VEVENT
BEGIN:VEVENT
DTSTART;TZID=America/Halifax:20251229T100000
DTEND;TZID=America/Halifax:20251229T170000
DTSTAMP:20260419T124658
CREATED:20251203T122604Z
LAST-MODIFIED:20251203T122604Z
UID:49878-1767002400-1767027600@muniarauco.cl
SUMMARY:ELECCIÓN CENTRO GENERAL DE PADRES Y APODERADOS ESC. F-735 JORGE VALENZUELA Z. PUNTA LAVAPIE
DESCRIPTION:Artículo 21 bis de la ley 19.418. «La comisión electoral deberá comunicar al secretario municipal la realización de la elección del directorio con al menos quince días hábiles de anticipación a la fecha fijada para ella. En caso de omitir esta comunicación\, la elección no tendrá validez. Esta información deberá ser publicada por el secretario municipal en la página web institucional de la municipalidad al día siguiente\, hábil de la comunicación y hasta la fecha de la elección…
URL:https://muniarauco.cl/evento/eleccion-centro-general-de-padres-y-apoderados-esc-f-735-jorge-valenzuela-z-punta-lavapie/
LOCATION:ESCUELA JORGE IVÁN VALENZUELA ZÚÑIGA\, PÚNTA LAVAPIE-
END:VEVENT
END:VCALENDAR