BEGIN:VCALENDAR
VERSION:2.0
PRODID:-//Ilustre Municipalidad de Arauco - ECPv6.14.2//NONSGML v1.0//EN
CALSCALE:GREGORIAN
METHOD:PUBLISH
X-WR-CALNAME:Ilustre Municipalidad de Arauco
X-ORIGINAL-URL:https://muniarauco.cl
X-WR-CALDESC:Eventos para Ilustre Municipalidad de Arauco
REFRESH-INTERVAL;VALUE=DURATION:PT1H
X-Robots-Tag:noindex
X-PUBLISHED-TTL:PT1H
BEGIN:VTIMEZONE
TZID:America/Halifax
BEGIN:DAYLIGHT
TZOFFSETFROM:-0400
TZOFFSETTO:-0300
TZNAME:ADT
DTSTART:20260308T060000
END:DAYLIGHT
BEGIN:STANDARD
TZOFFSETFROM:-0300
TZOFFSETTO:-0400
TZNAME:AST
DTSTART:20261101T050000
END:STANDARD
END:VTIMEZONE
BEGIN:VEVENT
DTSTART;TZID=America/Halifax:20260423T090000
DTEND;TZID=America/Halifax:20260423T223000
DTSTAMP:20260423T081048
CREATED:20260406T144103Z
LAST-MODIFIED:20260406T144103Z
UID:50185-1776934800-1776983400@muniarauco.cl
SUMMARY:ELECCIÓN AGRUPACIÓN SOCIAL Y PROTECTORA DE ANIMALES HUELLA DE AMOR
DESCRIPTION:Artículo 21 bis de la ley 19.418. «La comisión electoral deberá comunicar al secretario municipal la realización de la elección del directorio con al menos quince días hábiles de anticipación a la fecha fijada para ella. En caso de omitir esta comunicación\, la elección no tendrá validez. Esta información deberá ser publicada por el secretario municipal en la página web institucional de la municipalidad al día siguiente hábil de la comunicación y hasta la fecha de la elección…
URL:https://muniarauco.cl/evento/eleccion-agrupacion-social-y-protectora-de-animales-huella-de-amor/
LOCATION:CASA PARTICULAR LOS ARRAYANES\, PASAJE 2 CASA N°82\, ARAUCO.-
END:VEVENT
END:VCALENDAR