BEGIN:VCALENDAR
VERSION:2.0
PRODID:-//Ilustre Municipalidad de Arauco - ECPv6.14.2//NONSGML v1.0//EN
CALSCALE:GREGORIAN
METHOD:PUBLISH
X-WR-CALNAME:Ilustre Municipalidad de Arauco
X-ORIGINAL-URL:https://muniarauco.cl
X-WR-CALDESC:Eventos para Ilustre Municipalidad de Arauco
REFRESH-INTERVAL;VALUE=DURATION:PT1H
X-Robots-Tag:noindex
X-PUBLISHED-TTL:PT1H
BEGIN:VTIMEZONE
TZID:America/Halifax
BEGIN:DAYLIGHT
TZOFFSETFROM:-0400
TZOFFSETTO:-0300
TZNAME:ADT
DTSTART:20250309T060000
END:DAYLIGHT
BEGIN:STANDARD
TZOFFSETFROM:-0300
TZOFFSETTO:-0400
TZNAME:AST
DTSTART:20251102T050000
END:STANDARD
END:VTIMEZONE
BEGIN:VEVENT
DTSTART;TZID=America/Halifax:20251022T100000
DTEND;TZID=America/Halifax:20251022T130000
DTSTAMP:20260419T105115
CREATED:20251008T182907Z
LAST-MODIFIED:20251008T182907Z
UID:49737-1761127200-1761138000@muniarauco.cl
SUMMARY:ELECCIÓN TALLER LABORAL PUNTAS Y PUNTADAS
DESCRIPTION:Artículo 21 bis de la ley 19.418. «La comisión electoral deberá comunicar al secretario municipal la realización de la elección del directorio con al menos quince días hábiles de anticipación a la fecha fijada para ella. En caso de omitir esta comunicación\, la elección no tendrá validez. Esta información deberá ser publicada por el secretario municipal en la página web institucional de la municipalidad al día siguiente\, hábil de la comunicación y hasta la fecha de la elección….
URL:https://muniarauco.cl/evento/eleccion-taller-laboral-puntas-y-puntadas/
LOCATION:CAPILLA SAGRADA FAMILIA\,  CALLE VICENTE MILLAN N°444\, CARAMPANGUE.-
END:VEVENT
END:VCALENDAR