BEGIN:VCALENDAR
VERSION:2.0
PRODID:-//Ilustre Municipalidad de Arauco - ECPv6.14.2//NONSGML v1.0//EN
CALSCALE:GREGORIAN
METHOD:PUBLISH
X-ORIGINAL-URL:https://muniarauco.cl
X-WR-CALDESC:Eventos para Ilustre Municipalidad de Arauco
REFRESH-INTERVAL;VALUE=DURATION:PT1H
X-Robots-Tag:noindex
X-PUBLISHED-TTL:PT1H
BEGIN:VTIMEZONE
TZID:America/Halifax
BEGIN:DAYLIGHT
TZOFFSETFROM:-0400
TZOFFSETTO:-0300
TZNAME:ADT
DTSTART:20250309T060000
END:DAYLIGHT
BEGIN:STANDARD
TZOFFSETFROM:-0300
TZOFFSETTO:-0400
TZNAME:AST
DTSTART:20251102T050000
END:STANDARD
END:VTIMEZONE
BEGIN:VEVENT
DTSTART;TZID=America/Halifax:20250926T183000
DTEND;TZID=America/Halifax:20250926T210000
DTSTAMP:20260419T123924
CREATED:20250905T134331Z
LAST-MODIFIED:20250905T134331Z
UID:49666-1758911400-1758920400@muniarauco.cl
SUMMARY:ELECCIÓN COMITÉ DE ADELANTO Y DESARROLLO SECTOR EL FRAILE
DESCRIPTION:Artículo 21 bis de la ley 19.418. «La comisión electoral deberá comunicar al secretario municipal la realización de la elección del directorio con al menos quince días hábiles de anticipación a la fecha fijada para ella. En caso de omitir esta comunicación\, la elección no tendrá validez. Esta información deberá ser publicada por el secretario municipal en la página web institucional de la municipalidad al día siguiente\, hábil de la comunicación y hasta la fecha de la elección…
URL:https://muniarauco.cl/evento/eleccion-comite-de-adelanto-y-desarrollo-sector-el-fraile/
LOCATION:SEDE COMUNITARIA EL PARRÓN S/N\, ARAUCO
END:VEVENT
END:VCALENDAR