BEGIN:VCALENDAR
VERSION:2.0
PRODID:-//Ilustre Municipalidad de Arauco - ECPv6.14.2//NONSGML v1.0//EN
CALSCALE:GREGORIAN
METHOD:PUBLISH
X-WR-CALNAME:Ilustre Municipalidad de Arauco
X-ORIGINAL-URL:https://muniarauco.cl
X-WR-CALDESC:Eventos para Ilustre Municipalidad de Arauco
REFRESH-INTERVAL;VALUE=DURATION:PT1H
X-Robots-Tag:noindex
X-PUBLISHED-TTL:PT1H
BEGIN:VTIMEZONE
TZID:America/Halifax
BEGIN:DAYLIGHT
TZOFFSETFROM:-0400
TZOFFSETTO:-0300
TZNAME:ADT
DTSTART:20250309T060000
END:DAYLIGHT
BEGIN:STANDARD
TZOFFSETFROM:-0300
TZOFFSETTO:-0400
TZNAME:AST
DTSTART:20251102T050000
END:STANDARD
END:VTIMEZONE
BEGIN:VEVENT
DTSTART;TZID=America/Halifax:20250703T143000
DTEND;TZID=America/Halifax:20250703T163000
DTSTAMP:20260419T160558
CREATED:20250623T163533Z
LAST-MODIFIED:20250623T163533Z
UID:49283-1751553000-1751560200@muniarauco.cl
SUMMARY:ELECCIÓN AGRUPACIÓN DE DISCAPACITADOS PSIQUICOS\, FAMILIARES Y AMIGOS ENTRE TODOS
DESCRIPTION:Artículo 21 bis de la ley 19.418. «La comisión electoral deberá comunicar al secretario municipal la realización de la elección del directorio con al menos quince días hábiles de anticipación a la fecha fijada para ella. En caso de omitir esta comunicación\, la elección no tendrá validez. Esta información deberá ser publicada por el secretario municipal en la página web institucional de la municipalidad al día siguiente hábil de la comunicación y hasta la fecha de la elección… \n—
URL:https://muniarauco.cl/evento/eleccion-agrupacion-de-discapacitados-psiquicos-familiares-y-amigos-entre-todos/
LOCATION:COSAN ARAUCO\, CAUPOLICAN  S/N\, ARAUCO
END:VEVENT
BEGIN:VEVENT
DTSTART;TZID=America/Halifax:20250703T173000
DTEND;TZID=America/Halifax:20250703T193000
DTSTAMP:20260419T160558
CREATED:20250612T184737Z
LAST-MODIFIED:20250612T184737Z
UID:49259-1751563800-1751571000@muniarauco.cl
SUMMARY:ELECCIÓN AGRUPACIÓN DE MUJERES FUTURO DE LLICO
DESCRIPTION:Artículo 21 bis de la ley 19.418. «La comisión electoral deberá comunicar al secretario municipal la realización de la elección del directorio con al menos quince días hábiles de anticipación a la fecha fijada para ella. En caso de omitir esta comunicación\, la elección no tendrá validez. Esta información deberá ser publicada por el secretario municipal en la página web institucional de la municipalidad al día siguiente hábil de la comunicación y hasta la fecha de la elección…
URL:https://muniarauco.cl/evento/eleccion-agrupacion-de-mujeres-futuro-de-llico/
LOCATION:SEDE SINDICATO Y AGRUPACIONES DE PESCADORES\, SECTOR LLICO
END:VEVENT
END:VCALENDAR