BEGIN:VCALENDAR
VERSION:2.0
PRODID:-//Ilustre Municipalidad de Arauco - ECPv6.14.2//NONSGML v1.0//EN
CALSCALE:GREGORIAN
METHOD:PUBLISH
X-ORIGINAL-URL:https://muniarauco.cl
X-WR-CALDESC:Eventos para Ilustre Municipalidad de Arauco
REFRESH-INTERVAL;VALUE=DURATION:PT1H
X-Robots-Tag:noindex
X-PUBLISHED-TTL:PT1H
BEGIN:VTIMEZONE
TZID:America/Halifax
BEGIN:DAYLIGHT
TZOFFSETFROM:-0400
TZOFFSETTO:-0300
TZNAME:ADT
DTSTART:20250309T060000
END:DAYLIGHT
BEGIN:STANDARD
TZOFFSETFROM:-0300
TZOFFSETTO:-0400
TZNAME:AST
DTSTART:20251102T050000
END:STANDARD
END:VTIMEZONE
BEGIN:VEVENT
DTSTART;TZID=America/Halifax:20250526T143000
DTEND;TZID=America/Halifax:20250526T170000
DTSTAMP:20260419T175447
CREATED:20250515T145321Z
LAST-MODIFIED:20250515T151356Z
UID:48403-1748269800-1748278800@muniarauco.cl
SUMMARY:ELECCIÓN CENTRO DE PADRES\, MADRES Y  APODERADOS/AS DEL  JARDÍN  INFANTIL RAMADILLAS.
DESCRIPTION:Artículo 21 bis de la ley 19.418. «La comisión electoral deberá comunicar al secretario municipal la realización de la elección del directorio con al menos quince días hábiles de anticipación a la fecha fijada para ella. En caso de omitir esta comunicación\, la elección no tendrá validez. Esta información deberá ser publicada por el secretario municipal en la página web institucional de la municipalidad al día siguiente\, hábil de la comunicación y hasta la fecha de la elección…
URL:https://muniarauco.cl/evento/eleccion-centro-de-padres-madres-y-apoderados-as-del-jardin-infantil-ramadillas/
LOCATION:Jardín Infantil Ramadillas\, Calle Ignacio Carrera Pinto\, Pje\, La Concepción 77
END:VEVENT
BEGIN:VEVENT
DTSTART;TZID=America/Halifax:20250526T150000
DTEND;TZID=America/Halifax:20250526T160000
DTSTAMP:20260419T175447
CREATED:20250515T145319Z
LAST-MODIFIED:20250515T151811Z
UID:48401-1748271600-1748275200@muniarauco.cl
SUMMARY:ELECCIÓN CLUB DE ADULTO MAYOR FE Y ESPERANZA
DESCRIPTION:Artículo 21 bis de la ley 19.418. «La comisión electoral deberá comunicar al secretario municipal la realización de la elección del directorio con al menos quince días hábiles de anticipación a la fecha fijada para ella. En caso de omitir esta comunicación\, la elección no tendrá validez. Esta información deberá ser publicada por el secretario municipal en la página web institucional de la municipalidad al día siguiente hábil de la comunicación y hasta la fecha de la elección…
URL:https://muniarauco.cl/evento/eleccion-club-de-adulto-mayor-fe-y-esperanza/
LOCATION:Sede Junta de Vecinos Población Nueva Esperanza
END:VEVENT
BEGIN:VEVENT
DTSTART;TZID=America/Halifax:20250526T150000
DTEND;TZID=America/Halifax:20250526T160000
DTSTAMP:20260419T175447
CREATED:20250515T145320Z
LAST-MODIFIED:20250515T151658Z
UID:48402-1748271600-1748275200@muniarauco.cl
SUMMARY:ELECCIÓN CLUB DE ADULTO MAYOR LOS AÑOS FELICES
DESCRIPTION:Artículo 21 bis de la ley 19.418. «La comisión electoral deberá comunicar al secretario municipal la realización de la elección del directorio con al menos quince días hábiles de anticipación a la fecha fijada para ella. En caso de omitir esta comunicación\, la elección no tendrá validez. Esta información deberá ser publicada por el secretario municipal en la página web institucional de la municipalidad al día siguiente hábil de la comunicación y hasta la fecha de la elección…
URL:https://muniarauco.cl/evento/eleccion-club-de-adulto-mayor-los-anos-felices/
LOCATION:Sede Club de Adulto Mayor Los Años Felices\, Calle Julio Montt S/N\, Ramadillas
END:VEVENT
END:VCALENDAR